BEGIN:VCALENDAR
VERSION:2.0
PRODID:-//Parques Singulares Oeste - ECPv6.15.20//NONSGML v1.0//EN
CALSCALE:GREGORIAN
METHOD:PUBLISH
X-WR-CALNAME:Parques Singulares Oeste
X-ORIGINAL-URL:https://parquessingularesoeste.es
X-WR-CALDESC:Eventos para Parques Singulares Oeste
REFRESH-INTERVAL;VALUE=DURATION:PT1H
X-Robots-Tag:noindex
X-PUBLISHED-TTL:PT1H
BEGIN:VTIMEZONE
TZID:Europe/Madrid
BEGIN:DAYLIGHT
TZOFFSETFROM:+0100
TZOFFSETTO:+0200
TZNAME:CEST
DTSTART:20230326T010000
END:DAYLIGHT
BEGIN:STANDARD
TZOFFSETFROM:+0200
TZOFFSETTO:+0100
TZNAME:CET
DTSTART:20231029T010000
END:STANDARD
BEGIN:DAYLIGHT
TZOFFSETFROM:+0100
TZOFFSETTO:+0200
TZNAME:CEST
DTSTART:20240331T010000
END:DAYLIGHT
BEGIN:STANDARD
TZOFFSETFROM:+0200
TZOFFSETTO:+0100
TZNAME:CET
DTSTART:20241027T010000
END:STANDARD
BEGIN:DAYLIGHT
TZOFFSETFROM:+0100
TZOFFSETTO:+0200
TZNAME:CEST
DTSTART:20250330T010000
END:DAYLIGHT
BEGIN:STANDARD
TZOFFSETFROM:+0200
TZOFFSETTO:+0100
TZNAME:CET
DTSTART:20251026T010000
END:STANDARD
END:VTIMEZONE
BEGIN:VEVENT
DTSTART;TZID=Europe/Madrid:20240614T103000
DTEND;TZID=Europe/Madrid:20240614T113000
DTSTAMP:20260421T232926
CREATED:20240517T084110Z
LAST-MODIFIED:20240517T084110Z
UID:6728-1718361000-1718364600@parquessingularesoeste.es
SUMMARY:Mindfulness
DESCRIPTION:
URL:https://parquessingularesoeste.es/actividades/mindfulness-11/
LOCATION:Espacio Madrid Calle 30 / Madrid Río – Centro de Interpretación de Madrid Río\, Paseo de la Chopera 6-10\, Arganzuela\, Madrid\, 28045\, Spain
ATTACH;FMTTYPE=image/png:https://parquessingularesoeste.es/wp-content/uploads/2024/04/3-3.png
END:VEVENT
BEGIN:VEVENT
DTSTART;TZID=Europe/Madrid:20240614T103000
DTEND;TZID=Europe/Madrid:20240614T113000
DTSTAMP:20260421T232926
CREATED:20240516T211041Z
LAST-MODIFIED:20240518T114940Z
UID:6697-1718361000-1718364600@parquessingularesoeste.es
SUMMARY:Club de lectura
DESCRIPTION:
URL:https://parquessingularesoeste.es/actividades/club-de-lectura-2/
LOCATION:Espacio Madrid Calle 30 / Madrid Río – Centro de Interpretación de Madrid Río\, Paseo de la Chopera 6-10\, Arganzuela\, Madrid\, 28045\, Spain
ATTACH;FMTTYPE=image/png:https://parquessingularesoeste.es/wp-content/uploads/2024/04/4-1.png
END:VEVENT
BEGIN:VEVENT
DTSTART;TZID=Europe/Madrid:20240612T103000
DTEND;TZID=Europe/Madrid:20240612T113000
DTSTAMP:20260421T232926
CREATED:20240517T083204Z
LAST-MODIFIED:20240517T083204Z
UID:6720-1718188200-1718191800@parquessingularesoeste.es
SUMMARY:Mindfulness
DESCRIPTION:
URL:https://parquessingularesoeste.es/actividades/mindfulness-7/
LOCATION:Espacio Madrid Calle 30 / Madrid Río – Centro de Interpretación de Madrid Río\, Paseo de la Chopera 6-10\, Arganzuela\, Madrid\, 28045\, Spain
ATTACH;FMTTYPE=image/png:https://parquessingularesoeste.es/wp-content/uploads/2024/04/3-3.png
END:VEVENT
BEGIN:VEVENT
DTSTART;TZID=Europe/Madrid:20240611T103000
DTEND;TZID=Europe/Madrid:20240611T113000
DTSTAMP:20260421T232926
CREATED:20240517T081521Z
LAST-MODIFIED:20240517T081521Z
UID:6709-1718101800-1718105400@parquessingularesoeste.es
SUMMARY:Senda invernadero de  Arganzuela
DESCRIPTION:
URL:https://parquessingularesoeste.es/actividades/senda-invernadero-de-arganzuela-8/
LOCATION:Espacio Madrid Calle 30 / Madrid Río – Centro de Interpretación de Madrid Río\, Paseo de la Chopera 6-10\, Arganzuela\, Madrid\, 28045\, Spain
ATTACH;FMTTYPE=image/png:https://parquessingularesoeste.es/wp-content/uploads/2024/05/Beige-Minimal-Info-About-Us-Instagram-Post-e1715452595610.png
END:VEVENT
BEGIN:VEVENT
DTSTART;TZID=Europe/Madrid:20240608T183000
DTEND;TZID=Europe/Madrid:20240608T193000
DTSTAMP:20260421T232926
CREATED:20240517T080334Z
LAST-MODIFIED:20240517T080334Z
UID:6705-1717871400-1717875000@parquessingularesoeste.es
SUMMARY:Senda invernadero de  Arganzuela
DESCRIPTION:
URL:https://parquessingularesoeste.es/actividades/senda-invernadero-de-arganzuela-6/
LOCATION:Espacio Madrid Calle 30 / Madrid Río – Centro de Interpretación de Madrid Río\, Paseo de la Chopera 6-10\, Arganzuela\, Madrid\, 28045\, Spain
ATTACH;FMTTYPE=image/png:https://parquessingularesoeste.es/wp-content/uploads/2024/05/Beige-Minimal-Info-About-Us-Instagram-Post-e1715452595610.png
END:VEVENT
BEGIN:VEVENT
DTSTART;TZID=Europe/Madrid:20240608T110000
DTEND;TZID=Europe/Madrid:20240608T130000
DTSTAMP:20260421T232926
CREATED:20240511T190401Z
LAST-MODIFIED:20240511T190401Z
UID:6589-1717844400-1717851600@parquessingularesoeste.es
SUMMARY:Sábados al parque
DESCRIPTION:
URL:https://parquessingularesoeste.es/actividades/sabados-al-parque/
LOCATION:Madrid
ATTACH;FMTTYPE=image/png:https://parquessingularesoeste.es/wp-content/uploads/2024/05/Beige-Minimal-Info-About-Us-Instagram-Post-1-e1715454294172.png
END:VEVENT
BEGIN:VEVENT
DTSTART;TZID=Europe/Madrid:20240607T103000
DTEND;TZID=Europe/Madrid:20240607T113000
DTSTAMP:20260421T232926
CREATED:20240517T083949Z
LAST-MODIFIED:20240517T083949Z
UID:6726-1717756200-1717759800@parquessingularesoeste.es
SUMMARY:Mindfulness
DESCRIPTION:
URL:https://parquessingularesoeste.es/actividades/mindfulness-10/
LOCATION:Espacio Madrid Calle 30 / Madrid Río – Centro de Interpretación de Madrid Río\, Paseo de la Chopera 6-10\, Arganzuela\, Madrid\, 28045\, Spain
ATTACH;FMTTYPE=image/png:https://parquessingularesoeste.es/wp-content/uploads/2024/04/3-3.png
END:VEVENT
BEGIN:VEVENT
DTSTART;TZID=Europe/Madrid:20240607T103000
DTEND;TZID=Europe/Madrid:20240607T113000
DTSTAMP:20260421T232926
CREATED:20240511T182520Z
LAST-MODIFIED:20240518T114900Z
UID:6577-1717756200-1717759800@parquessingularesoeste.es
SUMMARY:Club de Lectura
DESCRIPTION:Abrimos este club de lectura para junio 2024\, inspirado en lecturas que pensamos os puedan gustar\, relacionadas con el medio ambiente\, la naturaleza o el cambio climático.\nEmpezando por este libro de Jeane Giono «El hombre que plantaba árboles». \nPodéis apuntaros o pedir información desde ya:\nal teléfono +34.657.664.829\, o al email info@parquessingularesoeste.es \nEn principio se comentarán las lecturas en el parque Madrid Río\, un jueves al mes\, a convenir según el mes\, lo anunciaremos en las actividades.
URL:https://parquessingularesoeste.es/actividades/club-de-lectura/
LOCATION:Espacio Madrid Calle 30 / Madrid Río – Centro de Interpretación de Madrid Río\, Paseo de la Chopera 6-10\, Arganzuela\, Madrid\, 28045\, Spain
ATTACH;FMTTYPE=image/png:https://parquessingularesoeste.es/wp-content/uploads/2024/04/4-1.png
END:VEVENT
BEGIN:VEVENT
DTSTART;TZID=Europe/Madrid:20240606T103000
DTEND;TZID=Europe/Madrid:20240606T113000
DTSTAMP:20260421T232926
CREATED:20240517T081921Z
LAST-MODIFIED:20240517T081921Z
UID:6713-1717669800-1717673400@parquessingularesoeste.es
SUMMARY:Senda de Interpretación y Parque de Madrid Río
DESCRIPTION:
URL:https://parquessingularesoeste.es/actividades/senda-de-interpretacion-y-parque-de-madrid-rio-5/
LOCATION:Espacio Madrid Calle 30 / Madrid Río – Centro de Interpretación de Madrid Río\, Paseo de la Chopera 6-10\, Arganzuela\, Madrid\, 28045\, Spain
ATTACH;FMTTYPE=image/png:https://parquessingularesoeste.es/wp-content/uploads/2024/04/SENDA-CENTRO-INTERPRETACIONMADRID-RIO-ADULTOS.png
END:VEVENT
BEGIN:VEVENT
DTSTART;TZID=Europe/Madrid:20240605T103000
DTEND;TZID=Europe/Madrid:20240605T113000
DTSTAMP:20260421T232926
CREATED:20240517T083038Z
LAST-MODIFIED:20240517T083038Z
UID:6718-1717583400-1717587000@parquessingularesoeste.es
SUMMARY:Mindfulness
DESCRIPTION:
URL:https://parquessingularesoeste.es/actividades/mindfulness-6/
LOCATION:Espacio Madrid Calle 30 / Madrid Río – Centro de Interpretación de Madrid Río\, Paseo de la Chopera 6-10\, Arganzuela\, Madrid\, 28045\, Spain
ATTACH;FMTTYPE=image/png:https://parquessingularesoeste.es/wp-content/uploads/2024/04/3-3.png
END:VEVENT
BEGIN:VEVENT
DTSTART;TZID=Europe/Madrid:20240601T183000
DTEND;TZID=Europe/Madrid:20240601T193000
DTSTAMP:20260421T232926
CREATED:20240516T204810Z
LAST-MODIFIED:20240516T204810Z
UID:6687-1717266600-1717270200@parquessingularesoeste.es
SUMMARY:Búsqueda del tesoro en el  Palacio de Cristal de la  Arganzuela
DESCRIPTION:
URL:https://parquessingularesoeste.es/actividades/busqueda-del-tesoro-en-el-palacio-de-cristal-de-la-arganzuela/
LOCATION:Madrid
ATTACH;FMTTYPE=image/png:https://parquessingularesoeste.es/wp-content/uploads/2024/05/Beige-Minimal-Info-About-Us-Instagram-Post-2-e1715892463743.png
END:VEVENT
BEGIN:VEVENT
DTSTART;TZID=Europe/Madrid:20240531T123000
DTEND;TZID=Europe/Madrid:20240531T133000
DTSTAMP:20260421T232926
CREATED:20240430T085600Z
LAST-MODIFIED:20240511T180934Z
UID:6353-1717158600-1717162200@parquessingularesoeste.es
SUMMARY:Salud en el Parque
DESCRIPTION:
URL:https://parquessingularesoeste.es/actividades/salud-en-el-parque-5/
LOCATION:Espacio Madrid Calle 30 / Madrid Río – Centro de Interpretación de Madrid Río\, Paseo de la Chopera 6-10\, Arganzuela\, Madrid\, 28045\, Spain
ATTACH;FMTTYPE=image/png:https://parquessingularesoeste.es/wp-content/uploads/2024/04/5-2.png
END:VEVENT
BEGIN:VEVENT
DTSTART;TZID=Europe/Madrid:20240530T123000
DTEND;TZID=Europe/Madrid:20240530T133000
DTSTAMP:20260421T232926
CREATED:20240430T084911Z
LAST-MODIFIED:20240511T180612Z
UID:6342-1717072200-1717075800@parquessingularesoeste.es
SUMMARY:Senda Centro de Interpretación. Madrid Río
DESCRIPTION:
URL:https://parquessingularesoeste.es/actividades/senda-de-interpretacion-y-parque-de-madrid-rio-4/
LOCATION:Espacio Madrid Calle 30 / Madrid Río – Centro de Interpretación de Madrid Río\, Paseo de la Chopera 6-10\, Arganzuela\, Madrid\, 28045\, Spain
ATTACH;FMTTYPE=image/png:https://parquessingularesoeste.es/wp-content/uploads/2024/04/SENDA-CENTRO-INTERPRETACIONMADRID-RIO-ADULTOS.png
END:VEVENT
BEGIN:VEVENT
DTSTART;TZID=Europe/Madrid:20240529T123000
DTEND;TZID=Europe/Madrid:20240529T133000
DTSTAMP:20260421T232926
CREATED:20240430T082540Z
LAST-MODIFIED:20240430T082540Z
UID:6334-1716985800-1716989400@parquessingularesoeste.es
SUMMARY:Mindfulness
DESCRIPTION:
URL:https://parquessingularesoeste.es/actividades/mindfulness-5/
LOCATION:Espacio Madrid Calle 30 / Madrid Río – Centro de Interpretación de Madrid Río\, Paseo de la Chopera 6-10\, Arganzuela\, Madrid\, 28045\, Spain
ATTACH;FMTTYPE=image/png:https://parquessingularesoeste.es/wp-content/uploads/2024/04/3-3.png
END:VEVENT
BEGIN:VEVENT
DTSTART;TZID=Europe/Madrid:20240528T123000
DTEND;TZID=Europe/Madrid:20240528T133000
DTSTAMP:20260421T232926
CREATED:20240430T080638Z
LAST-MODIFIED:20240511T183944Z
UID:6318-1716899400-1716903000@parquessingularesoeste.es
SUMMARY:Senda Invernadero de Arganzuela (adultos)
DESCRIPTION:
URL:https://parquessingularesoeste.es/actividades/senda-invernadero-de-arganzuela-4/
LOCATION:Espacio Madrid Calle 30 / Madrid Río – Centro de Interpretación de Madrid Río\, Paseo de la Chopera 6-10\, Arganzuela\, Madrid\, 28045\, Spain
ATTACH;FMTTYPE=image/png:https://parquessingularesoeste.es/wp-content/uploads/2024/05/Beige-Minimal-Info-About-Us-Instagram-Post-e1715452595610.png
END:VEVENT
BEGIN:VEVENT
DTSTART;TZID=Europe/Madrid:20240525T183000
DTEND;TZID=Europe/Madrid:20240525T193000
DTSTAMP:20260421T232926
CREATED:20240430T085918Z
LAST-MODIFIED:20240511T184046Z
UID:6357-1716661800-1716665400@parquessingularesoeste.es
SUMMARY:Senda Invernadero Arganzuela (adultos)
DESCRIPTION:
URL:https://parquessingularesoeste.es/actividades/senda-invernadero-arganzuela/
LOCATION:Espacio Madrid Calle 30 / Madrid Río – Centro de Interpretación de Madrid Río\, Paseo de la Chopera 6-10\, Arganzuela\, Madrid\, 28045\, Spain
ATTACH;FMTTYPE=image/png:https://parquessingularesoeste.es/wp-content/uploads/2024/05/Beige-Minimal-Info-About-Us-Instagram-Post-e1715452595610.png
END:VEVENT
BEGIN:VEVENT
DTSTART;TZID=Europe/Madrid:20240524T103000
DTEND;TZID=Europe/Madrid:20240524T113000
DTSTAMP:20260421T232926
CREATED:20240430T085459Z
LAST-MODIFIED:20240430T085459Z
UID:6351-1716546600-1716550200@parquessingularesoeste.es
SUMMARY:Salud en el Parque
DESCRIPTION:
URL:https://parquessingularesoeste.es/actividades/salud-en-el-parque-4/
LOCATION:Espacio Madrid Calle 30 / Madrid Río – Centro de Interpretación de Madrid Río\, Paseo de la Chopera 6-10\, Arganzuela\, Madrid\, 28045\, Spain
ATTACH;FMTTYPE=image/png:https://parquessingularesoeste.es/wp-content/uploads/2024/04/5-2.png
END:VEVENT
BEGIN:VEVENT
DTSTART;TZID=Europe/Madrid:20240523T123000
DTEND;TZID=Europe/Madrid:20240523T133000
DTSTAMP:20260421T232926
CREATED:20240430T084804Z
LAST-MODIFIED:20240511T184123Z
UID:6340-1716467400-1716471000@parquessingularesoeste.es
SUMMARY:Senda Centro de Interpretación. Madrid Río
DESCRIPTION:
URL:https://parquessingularesoeste.es/actividades/senda-de-interpretacion-y-parque-de-madrid-rio-3/
LOCATION:Espacio Madrid Calle 30 / Madrid Río – Centro de Interpretación de Madrid Río\, Paseo de la Chopera 6-10\, Arganzuela\, Madrid\, 28045\, Spain
ATTACH;FMTTYPE=image/png:https://parquessingularesoeste.es/wp-content/uploads/2024/04/SENDA-CENTRO-INTERPRETACIONMADRID-RIO-ADULTOS.png
END:VEVENT
BEGIN:VEVENT
DTSTART;TZID=Europe/Madrid:20240522T123000
DTEND;TZID=Europe/Madrid:20240522T133000
DTSTAMP:20260421T232926
CREATED:20240430T082342Z
LAST-MODIFIED:20240430T082342Z
UID:6332-1716381000-1716384600@parquessingularesoeste.es
SUMMARY:Mindfulness
DESCRIPTION:
URL:https://parquessingularesoeste.es/actividades/mindfulness-4/
LOCATION:Espacio Madrid Calle 30 / Madrid Río – Centro de Interpretación de Madrid Río\, Paseo de la Chopera 6-10\, Arganzuela\, Madrid\, 28045\, Spain
ATTACH;FMTTYPE=image/png:https://parquessingularesoeste.es/wp-content/uploads/2024/04/3-3.png
END:VEVENT
BEGIN:VEVENT
DTSTART;TZID=Europe/Madrid:20240521T123000
DTEND;TZID=Europe/Madrid:20240521T133000
DTSTAMP:20260421T232926
CREATED:20240430T080529Z
LAST-MODIFIED:20240511T184523Z
UID:6316-1716294600-1716298200@parquessingularesoeste.es
SUMMARY:Senda Invernadero de Arganzuela (adultos)
DESCRIPTION:
URL:https://parquessingularesoeste.es/actividades/senda-invernadero-de-arganzuela-3/
LOCATION:Madrid
ATTACH;FMTTYPE=image/png:https://parquessingularesoeste.es/wp-content/uploads/2024/05/Beige-Minimal-Info-About-Us-Instagram-Post-e1715452595610.png
END:VEVENT
BEGIN:VEVENT
DTSTART;TZID=Europe/Madrid:20240518T183000
DTEND;TZID=Europe/Madrid:20240518T193000
DTSTAMP:20260421T232926
CREATED:20240511T183205Z
LAST-MODIFIED:20240511T184617Z
UID:6579-1716057000-1716060600@parquessingularesoeste.es
SUMMARY:Senda Invernadero de Arganzuela (adultos)
DESCRIPTION:
URL:https://parquessingularesoeste.es/actividades/descubre-el-invernadero-de-arganzuela/
LOCATION:Madrid
ATTACH;FMTTYPE=image/png:https://parquessingularesoeste.es/wp-content/uploads/2024/05/Beige-Minimal-Info-About-Us-Instagram-Post-e1715452595610.png
END:VEVENT
BEGIN:VEVENT
DTSTART;TZID=Europe/Madrid:20240517T103000
DTEND;TZID=Europe/Madrid:20240517T113000
DTSTAMP:20260421T232926
CREATED:20240430T085355Z
LAST-MODIFIED:20240430T085355Z
UID:6349-1715941800-1715945400@parquessingularesoeste.es
SUMMARY:Salud en el Parque
DESCRIPTION:
URL:https://parquessingularesoeste.es/actividades/salud-en-el-parque-3/
LOCATION:Espacio Madrid Calle 30 / Madrid Río – Centro de Interpretación de Madrid Río\, Paseo de la Chopera 6-10\, Arganzuela\, Madrid\, 28045\, Spain
ATTACH;FMTTYPE=image/png:https://parquessingularesoeste.es/wp-content/uploads/2024/04/5-2.png
END:VEVENT
BEGIN:VEVENT
DTSTART;TZID=Europe/Madrid:20240516T123000
DTEND;TZID=Europe/Madrid:20240516T133000
DTSTAMP:20260421T232926
CREATED:20240430T084635Z
LAST-MODIFIED:20240511T184813Z
UID:6338-1715862600-1715866200@parquessingularesoeste.es
SUMMARY:Senda Centro de Interpretación y Parque de Madrid Río
DESCRIPTION:
URL:https://parquessingularesoeste.es/actividades/senda-de-interpretacion-y-parque-de-madrid-rio-2/
LOCATION:Espacio Madrid Calle 30 / Madrid Río – Centro de Interpretación de Madrid Río\, Paseo de la Chopera 6-10\, Arganzuela\, Madrid\, 28045\, Spain
ATTACH;FMTTYPE=image/png:https://parquessingularesoeste.es/wp-content/uploads/2024/04/SENDA-CENTRO-INTERPRETACIONMADRID-RIO-ADULTOS.png
END:VEVENT
BEGIN:VEVENT
DTSTART;TZID=Europe/Madrid:20240515T123000
DTEND;TZID=Europe/Madrid:20240515T133000
DTSTAMP:20260421T232926
CREATED:20240430T081341Z
LAST-MODIFIED:20240430T081341Z
UID:6328-1715776200-1715779800@parquessingularesoeste.es
SUMMARY:Mindfulness
DESCRIPTION:
URL:https://parquessingularesoeste.es/actividades/mindfulness-3/
LOCATION:Espacio Madrid Calle 30 / Madrid Río – Centro de Interpretación de Madrid Río\, Paseo de la Chopera 6-10\, Arganzuela\, Madrid\, 28045\, Spain
ATTACH;FMTTYPE=image/png:https://parquessingularesoeste.es/wp-content/uploads/2024/04/3-3.png
END:VEVENT
BEGIN:VEVENT
DTSTART;TZID=Europe/Madrid:20240514T123000
DTEND;TZID=Europe/Madrid:20240514T133000
DTSTAMP:20260421T232926
CREATED:20240430T080404Z
LAST-MODIFIED:20240511T184850Z
UID:6314-1715689800-1715693400@parquessingularesoeste.es
SUMMARY:Senda Invernadero de Arganzuela (adultos)
DESCRIPTION:
URL:https://parquessingularesoeste.es/actividades/senda-invernadero-de-arganzuela-2/
LOCATION:Espacio Madrid Calle 30 / Madrid Río – Centro de Interpretación de Madrid Río\, Paseo de la Chopera 6-10\, Arganzuela\, Madrid\, 28045\, Spain
ATTACH;FMTTYPE=image/png:https://parquessingularesoeste.es/wp-content/uploads/2024/05/Beige-Minimal-Info-About-Us-Instagram-Post-e1715452595610.png
END:VEVENT
BEGIN:VEVENT
DTSTART;TZID=Europe/Madrid:20240511T183000
DTEND;TZID=Europe/Madrid:20240511T193000
DTSTAMP:20260421T232926
CREATED:20240430T085752Z
LAST-MODIFIED:20240511T185056Z
UID:6355-1715452200-1715455800@parquessingularesoeste.es
SUMMARY:Senda Invernadero de Arganzuela (adultos)
DESCRIPTION:
URL:https://parquessingularesoeste.es/actividades/senda-invernadero-de-arganzuela-5/
LOCATION:Espacio Madrid Calle 30 / Madrid Río – Centro de Interpretación de Madrid Río\, Paseo de la Chopera 6-10\, Arganzuela\, Madrid\, 28045\, Spain
ATTACH;FMTTYPE=image/png:https://parquessingularesoeste.es/wp-content/uploads/2024/05/Beige-Minimal-Info-About-Us-Instagram-Post-e1715452595610.png
END:VEVENT
BEGIN:VEVENT
DTSTART;TZID=Europe/Madrid:20240511T113000
DTEND;TZID=Europe/Madrid:20240511T133000
DTSTAMP:20260421T232926
CREATED:20240423T165234Z
LAST-MODIFIED:20240429T173929Z
UID:5811-1715427000-1715434200@parquessingularesoeste.es
SUMMARY:Celebramos la Semana de la Biodiversidad
DESCRIPTION:¡Celebra la Semana de la Biodiversidad con nosotros desde el Centro de Interpretación de Madrid Río!  \n Te esperamos el sábado 11 de mayo de 11:30h a 13:30h en Madrid Río\, ven a descubrir por qué la biodiversidad es crucial para la salud del planeta en familia.\n\nReserva tu lugar: 657 66 48 29 / info@parquessingulares.es. \n\n Únete a nuestro canal de WhatsApp para más información: https://wa.me/34657664829 \n\n🌿 Facebook: https://www.facebook.com/parquessingularesoeste\n🌿 Instagram: https://www.instagram.com/parquessingularesoeste.es/
URL:https://parquessingularesoeste.es/actividades/semana-biodiversidad/
LOCATION:Espacio Madrid Calle 30 / Madrid Río – Centro de Interpretación de Madrid Río\, Paseo de la Chopera 6-10\, Arganzuela\, Madrid\, 28045\, Spain
ATTACH;FMTTYPE=image/jpeg:https://parquessingularesoeste.es/wp-content/uploads/2024/04/20210925_111327-scaled.jpg
END:VEVENT
BEGIN:VEVENT
DTSTART;TZID=Europe/Madrid:20240510T103000
DTEND;TZID=Europe/Madrid:20240510T113000
DTSTAMP:20260421T232926
CREATED:20240430T085241Z
LAST-MODIFIED:20240430T085241Z
UID:6346-1715337000-1715340600@parquessingularesoeste.es
SUMMARY:Salud en el Parque
DESCRIPTION:
URL:https://parquessingularesoeste.es/actividades/salud-en-el-parque-2/
LOCATION:Espacio Madrid Calle 30 / Madrid Río – Centro de Interpretación de Madrid Río\, Paseo de la Chopera 6-10\, Arganzuela\, Madrid\, 28045\, Spain
ATTACH;FMTTYPE=image/png:https://parquessingularesoeste.es/wp-content/uploads/2024/04/5-2.png
END:VEVENT
BEGIN:VEVENT
DTSTART;TZID=Europe/Madrid:20240508T123000
DTEND;TZID=Europe/Madrid:20240508T133000
DTSTAMP:20260421T232926
CREATED:20240430T081237Z
LAST-MODIFIED:20240430T081237Z
UID:6326-1715171400-1715175000@parquessingularesoeste.es
SUMMARY:Mindfulness
DESCRIPTION:
URL:https://parquessingularesoeste.es/actividades/mindfulness-2/
LOCATION:Espacio Madrid Calle 30 / Madrid Río – Centro de Interpretación de Madrid Río\, Paseo de la Chopera 6-10\, Arganzuela\, Madrid\, 28045\, Spain
ATTACH;FMTTYPE=image/png:https://parquessingularesoeste.es/wp-content/uploads/2024/04/3-3.png
END:VEVENT
BEGIN:VEVENT
DTSTART;TZID=Europe/Madrid:20240507T123000
DTEND;TZID=Europe/Madrid:20240507T133000
DTSTAMP:20260421T232926
CREATED:20240430T075527Z
LAST-MODIFIED:20240511T185146Z
UID:6312-1715085000-1715088600@parquessingularesoeste.es
SUMMARY:Senda Invernadero de Arganzuela (adultos)
DESCRIPTION:
URL:https://parquessingularesoeste.es/actividades/senda-invernadero-de-arganzuela/
LOCATION:Espacio Madrid Calle 30 / Madrid Río – Centro de Interpretación de Madrid Río\, Paseo de la Chopera 6-10\, Arganzuela\, Madrid\, 28045\, Spain
ATTACH;FMTTYPE=image/png:https://parquessingularesoeste.es/wp-content/uploads/2024/05/Beige-Minimal-Info-About-Us-Instagram-Post-e1715452595610.png
END:VEVENT
END:VCALENDAR