BEGIN:VCALENDAR
VERSION:2.0
PRODID:-//Parques Singulares Oeste - ECPv6.15.20//NONSGML v1.0//EN
CALSCALE:GREGORIAN
METHOD:PUBLISH
X-WR-CALNAME:Parques Singulares Oeste
X-ORIGINAL-URL:https://parquessingularesoeste.es
X-WR-CALDESC:Eventos para Parques Singulares Oeste
REFRESH-INTERVAL;VALUE=DURATION:PT1H
X-Robots-Tag:noindex
X-PUBLISHED-TTL:PT1H
BEGIN:VTIMEZONE
TZID:Europe/Madrid
BEGIN:DAYLIGHT
TZOFFSETFROM:+0100
TZOFFSETTO:+0200
TZNAME:CEST
DTSTART:20230326T010000
END:DAYLIGHT
BEGIN:STANDARD
TZOFFSETFROM:+0200
TZOFFSETTO:+0100
TZNAME:CET
DTSTART:20231029T010000
END:STANDARD
BEGIN:DAYLIGHT
TZOFFSETFROM:+0100
TZOFFSETTO:+0200
TZNAME:CEST
DTSTART:20240331T010000
END:DAYLIGHT
BEGIN:STANDARD
TZOFFSETFROM:+0200
TZOFFSETTO:+0100
TZNAME:CET
DTSTART:20241027T010000
END:STANDARD
BEGIN:DAYLIGHT
TZOFFSETFROM:+0100
TZOFFSETTO:+0200
TZNAME:CEST
DTSTART:20250330T010000
END:DAYLIGHT
BEGIN:STANDARD
TZOFFSETFROM:+0200
TZOFFSETTO:+0100
TZNAME:CET
DTSTART:20251026T010000
END:STANDARD
END:VTIMEZONE
BEGIN:VEVENT
DTSTART;TZID=Europe/Madrid:20240907T183000
DTEND;TZID=Europe/Madrid:20240907T193000
DTSTAMP:20260421T192036
CREATED:20240827T102630Z
LAST-MODIFIED:20240827T103418Z
UID:6842-1725733800-1725737400@parquessingularesoeste.es
SUMMARY:Senda invernadero de Arganzuela
DESCRIPTION:
URL:https://parquessingularesoeste.es/actividades/senda-invernadero-de-arganzuela-14/
LOCATION:Invernadero de Arganzuela\, Punto de encuentro: Puerta principal del Invernadero (Palacio de Cristal de la Arganzuela\, Paseo de la Chopera 6-10)\, Madrid\, 28045
ATTACH;FMTTYPE=image/png:https://parquessingularesoeste.es/wp-content/uploads/2024/05/Beige-Minimal-Info-About-Us-Instagram-Post-e1715452595610.png
END:VEVENT
BEGIN:VEVENT
DTSTART;TZID=Europe/Madrid:20240906T103000
DTEND;TZID=Europe/Madrid:20240906T113000
DTSTAMP:20260421T192036
CREATED:20240827T112017Z
LAST-MODIFIED:20240827T112017Z
UID:6861-1725618600-1725622200@parquessingularesoeste.es
SUMMARY:Club de Lectura
DESCRIPTION:
URL:https://parquessingularesoeste.es/actividades/club-de-lectura-9/
LOCATION:Invernadero de Arganzuela\, Punto de encuentro: Puerta principal del Invernadero (Palacio de Cristal de la Arganzuela\, Paseo de la Chopera 6-10)\, Madrid\, 28045
ATTACH;FMTTYPE=image/png:https://parquessingularesoeste.es/wp-content/uploads/2024/04/4-1.png
END:VEVENT
BEGIN:VEVENT
DTSTART;TZID=Europe/Madrid:20240905T103000
DTEND;TZID=Europe/Madrid:20240905T113000
DTSTAMP:20260421T192036
CREATED:20240827T104837Z
LAST-MODIFIED:20240827T104837Z
UID:6853-1725532200-1725535800@parquessingularesoeste.es
SUMMARY:Senda de Interpretación y Parque de Madrid Río
DESCRIPTION:
URL:https://parquessingularesoeste.es/actividades/senda-de-interpretacion-y-parque-de-madrid-rio-6/
LOCATION:Invernadero de Arganzuela\, Punto de encuentro: Puerta principal del Invernadero (Palacio de Cristal de la Arganzuela\, Paseo de la Chopera 6-10)\, Madrid\, 28045
ATTACH;FMTTYPE=image/png:https://parquessingularesoeste.es/wp-content/uploads/2024/04/SENDA-CENTRO-INTERPRETACIONMADRID-RIO-ADULTOS.png
END:VEVENT
BEGIN:VEVENT
DTSTART;TZID=Europe/Madrid:20240731T103000
DTEND;TZID=Europe/Madrid:20240731T113000
DTSTAMP:20260421T192036
CREATED:20240701T151200Z
LAST-MODIFIED:20240701T151200Z
UID:6808-1722421800-1722425400@parquessingularesoeste.es
SUMMARY:Mindfulness
DESCRIPTION:
URL:https://parquessingularesoeste.es/actividades/mindfulness-18/
LOCATION:Espacio Madrid Calle 30 / Madrid Río – Centro de Interpretación de Madrid Río\, Paseo de la Chopera 6-10\, Arganzuela\, Madrid\, 28045\, Spain
ATTACH;FMTTYPE=image/png:https://parquessingularesoeste.es/wp-content/uploads/2024/04/3-3.png
END:VEVENT
BEGIN:VEVENT
DTSTART;TZID=Europe/Madrid:20240726T113000
DTEND;TZID=Europe/Madrid:20240726T123000
DTSTAMP:20260421T192036
CREATED:20240701T151737Z
LAST-MODIFIED:20240701T153554Z
UID:6816-1721993400-1721997000@parquessingularesoeste.es
SUMMARY:Club de lectura
DESCRIPTION:
URL:https://parquessingularesoeste.es/actividades/club-de-lectura-8/
LOCATION:Espacio Madrid Calle 30 / Madrid Río – Centro de Interpretación de Madrid Río\, Paseo de la Chopera 6-10\, Arganzuela\, Madrid\, 28045\, Spain
ATTACH;FMTTYPE=image/png:https://parquessingularesoeste.es/wp-content/uploads/2024/04/4-1.png
END:VEVENT
BEGIN:VEVENT
DTSTART;TZID=Europe/Madrid:20240724T103000
DTEND;TZID=Europe/Madrid:20240724T113000
DTSTAMP:20260421T192036
CREATED:20240701T151101Z
LAST-MODIFIED:20240701T151101Z
UID:6806-1721817000-1721820600@parquessingularesoeste.es
SUMMARY:Mindfulness
DESCRIPTION:
URL:https://parquessingularesoeste.es/actividades/mindfulness-17/
LOCATION:Espacio Madrid Calle 30 / Madrid Río – Centro de Interpretación de Madrid Río\, Paseo de la Chopera 6-10\, Arganzuela\, Madrid\, 28045\, Spain
ATTACH;FMTTYPE=image/png:https://parquessingularesoeste.es/wp-content/uploads/2024/04/3-3.png
END:VEVENT
BEGIN:VEVENT
DTSTART;TZID=Europe/Madrid:20240723T103000
DTEND;TZID=Europe/Madrid:20240723T113000
DTSTAMP:20260421T192036
CREATED:20240701T150302Z
LAST-MODIFIED:20240701T150302Z
UID:6796-1721730600-1721734200@parquessingularesoeste.es
SUMMARY:Senda invernadero de Arganzuela
DESCRIPTION:
URL:https://parquessingularesoeste.es/actividades/senda-invernadero-de-arganzuela-13/
LOCATION:Espacio Madrid Calle 30 / Madrid Río – Centro de Interpretación de Madrid Río\, Paseo de la Chopera 6-10\, Arganzuela\, Madrid\, 28045\, Spain
ATTACH;FMTTYPE=image/png:https://parquessingularesoeste.es/wp-content/uploads/2024/05/Beige-Minimal-Info-About-Us-Instagram-Post-e1715452595610.png
END:VEVENT
BEGIN:VEVENT
DTSTART;TZID=Europe/Madrid:20240720T183000
DTEND;TZID=Europe/Madrid:20240720T193000
DTSTAMP:20260421T192036
CREATED:20240701T150026Z
LAST-MODIFIED:20240703T062455Z
UID:6792-1721500200-1721503800@parquessingularesoeste.es
SUMMARY:Senda invernadero de Arganzuela
DESCRIPTION:
URL:https://parquessingularesoeste.es/actividades/senda-invernadero-de-arganzuela-11/
LOCATION:Espacio Madrid Calle 30 / Madrid Río – Centro de Interpretación de Madrid Río\, Paseo de la Chopera 6-10\, Arganzuela\, Madrid\, 28045\, Spain
ATTACH;FMTTYPE=image/png:https://parquessingularesoeste.es/wp-content/uploads/2024/05/Beige-Minimal-Info-About-Us-Instagram-Post-e1715452595610.png
END:VEVENT
BEGIN:VEVENT
DTSTART;TZID=Europe/Madrid:20240719T113000
DTEND;TZID=Europe/Madrid:20240719T123000
DTSTAMP:20260421T192036
CREATED:20240701T151632Z
LAST-MODIFIED:20240701T153518Z
UID:6814-1721388600-1721392200@parquessingularesoeste.es
SUMMARY:Club de lectura
DESCRIPTION:
URL:https://parquessingularesoeste.es/actividades/club-de-lectura-7/
ATTACH;FMTTYPE=image/png:https://parquessingularesoeste.es/wp-content/uploads/2024/04/4-1.png
END:VEVENT
BEGIN:VEVENT
DTSTART;TZID=Europe/Madrid:20240718T103000
DTEND;TZID=Europe/Madrid:20240718T113000
DTSTAMP:20260421T192036
CREATED:20240701T150559Z
LAST-MODIFIED:20240701T150559Z
UID:6798-1721298600-1721302200@parquessingularesoeste.es
SUMMARY:Senda Centro (Pza. Oriente\, J. Sabatini\, Pza. España)
DESCRIPTION:
URL:https://parquessingularesoeste.es/actividades/senda-centro-pza-oriente-j-sabatini-pza-espana/
LOCATION:Espacio Madrid Calle 30 / Madrid Río – Centro de Interpretación de Madrid Río\, Paseo de la Chopera 6-10\, Arganzuela\, Madrid\, 28045\, Spain
ATTACH;FMTTYPE=image/png:https://parquessingularesoeste.es/wp-content/uploads/2024/05/Beige-Minimal-Info-About-Us-Instagram-Post-4.png
END:VEVENT
BEGIN:VEVENT
DTSTART;TZID=Europe/Madrid:20240717T103000
DTEND;TZID=Europe/Madrid:20240717T113000
DTSTAMP:20260421T192036
CREATED:20240701T150953Z
LAST-MODIFIED:20240701T150953Z
UID:6804-1721212200-1721215800@parquessingularesoeste.es
SUMMARY:Mindfulness
DESCRIPTION:
URL:https://parquessingularesoeste.es/actividades/mindfulness-16/
LOCATION:Espacio Madrid Calle 30 / Madrid Río – Centro de Interpretación de Madrid Río\, Paseo de la Chopera 6-10\, Arganzuela\, Madrid\, 28045\, Spain
ATTACH;FMTTYPE=image/png:https://parquessingularesoeste.es/wp-content/uploads/2024/04/3-3.png
END:VEVENT
BEGIN:VEVENT
DTSTART;TZID=Europe/Madrid:20240713T183000
DTEND;TZID=Europe/Madrid:20240713T193000
DTSTAMP:20260421T192036
CREATED:20240701T144957Z
LAST-MODIFIED:20240703T062409Z
UID:6784-1720895400-1720899000@parquessingularesoeste.es
SUMMARY:Búsqueda del tesoro en el Palacio de Cristal de la Arganzuela
DESCRIPTION:
URL:https://parquessingularesoeste.es/actividades/busqueda-del-tesoro-en-el-palacio-de-cristal-de-la-arganzuela-4/
LOCATION:Espacio Madrid Calle 30 / Madrid Río – Centro de Interpretación de Madrid Río\, Paseo de la Chopera 6-10\, Arganzuela\, Madrid\, 28045\, Spain
ATTACH;FMTTYPE=image/png:https://parquessingularesoeste.es/wp-content/uploads/2024/05/Beige-Minimal-Info-About-Us-Instagram-Post-2-e1715892463743.png
END:VEVENT
BEGIN:VEVENT
DTSTART;TZID=Europe/Madrid:20240712T113000
DTEND;TZID=Europe/Madrid:20240712T123000
DTSTAMP:20260421T192036
CREATED:20240701T151459Z
LAST-MODIFIED:20240701T153436Z
UID:6812-1720783800-1720787400@parquessingularesoeste.es
SUMMARY:Club de lectura
DESCRIPTION:
URL:https://parquessingularesoeste.es/actividades/club-de-lectura-6/
LOCATION:Espacio Madrid Calle 30 / Madrid Río – Centro de Interpretación de Madrid Río\, Paseo de la Chopera 6-10\, Arganzuela\, Madrid\, 28045\, Spain
ATTACH;FMTTYPE=image/png:https://parquessingularesoeste.es/wp-content/uploads/2024/04/4-1.png
END:VEVENT
BEGIN:VEVENT
DTSTART;TZID=Europe/Madrid:20240710T103000
DTEND;TZID=Europe/Madrid:20240710T113000
DTSTAMP:20260421T192036
CREATED:20240701T150830Z
LAST-MODIFIED:20240701T150830Z
UID:6802-1720607400-1720611000@parquessingularesoeste.es
SUMMARY:Mindfulness
DESCRIPTION:
URL:https://parquessingularesoeste.es/actividades/mindfulness-15/
LOCATION:Espacio Madrid Calle 30 / Madrid Río – Centro de Interpretación de Madrid Río\, Paseo de la Chopera 6-10\, Arganzuela\, Madrid\, 28045\, Spain
ATTACH;FMTTYPE=image/png:https://parquessingularesoeste.es/wp-content/uploads/2024/04/3-3.png
END:VEVENT
BEGIN:VEVENT
DTSTART;TZID=Europe/Madrid:20240709T103000
DTEND;TZID=Europe/Madrid:20240709T113000
DTSTAMP:20260421T192036
CREATED:20240701T150200Z
LAST-MODIFIED:20240701T150200Z
UID:6794-1720521000-1720524600@parquessingularesoeste.es
SUMMARY:Senda invernadero de Arganzuela
DESCRIPTION:
URL:https://parquessingularesoeste.es/actividades/senda-invernadero-de-arganzuela-12/
LOCATION:Espacio Madrid Calle 30 / Madrid Río – Centro de Interpretación de Madrid Río\, Paseo de la Chopera 6-10\, Arganzuela\, Madrid\, 28045\, Spain
ATTACH;FMTTYPE=image/png:https://parquessingularesoeste.es/wp-content/uploads/2024/05/Beige-Minimal-Info-About-Us-Instagram-Post-e1715452595610.png
END:VEVENT
BEGIN:VEVENT
DTSTART;TZID=Europe/Madrid:20240706T183000
DTEND;TZID=Europe/Madrid:20240706T193000
DTSTAMP:20260421T192036
CREATED:20240701T145558Z
LAST-MODIFIED:20240703T062538Z
UID:6790-1720290600-1720294200@parquessingularesoeste.es
SUMMARY:Senda invernadero de Arganzuela
DESCRIPTION:
URL:https://parquessingularesoeste.es/actividades/senda-invernadero-de-arganzuela-10/
LOCATION:Espacio Madrid Calle 30 / Madrid Río – Centro de Interpretación de Madrid Río\, Paseo de la Chopera 6-10\, Arganzuela\, Madrid\, 28045\, Spain
ATTACH;FMTTYPE=image/png:https://parquessingularesoeste.es/wp-content/uploads/2024/05/Beige-Minimal-Info-About-Us-Instagram-Post-e1715452595610.png
END:VEVENT
BEGIN:VEVENT
DTSTART;TZID=Europe/Madrid:20240705T113000
DTEND;TZID=Europe/Madrid:20240705T123000
DTSTAMP:20260421T192036
CREATED:20240701T151345Z
LAST-MODIFIED:20240701T153403Z
UID:6810-1720179000-1720182600@parquessingularesoeste.es
SUMMARY:Club de lectura
DESCRIPTION:
URL:https://parquessingularesoeste.es/actividades/club-de-lectura-5/
LOCATION:Espacio Madrid Calle 30 / Madrid Río – Centro de Interpretación de Madrid Río\, Paseo de la Chopera 6-10\, Arganzuela\, Madrid\, 28045\, Spain
ATTACH;FMTTYPE=image/png:https://parquessingularesoeste.es/wp-content/uploads/2024/04/4-1.png
END:VEVENT
BEGIN:VEVENT
DTSTART;TZID=Europe/Madrid:20240704T103000
DTEND;TZID=Europe/Madrid:20240704T113000
DTSTAMP:20260421T192036
CREATED:20240701T145344Z
LAST-MODIFIED:20240701T145344Z
UID:6788-1720089000-1720092600@parquessingularesoeste.es
SUMMARY:Senda de adultos Madrid Rio
DESCRIPTION:
URL:https://parquessingularesoeste.es/actividades/senda-de-adultos-madrid-rio/
LOCATION:Espacio Madrid Calle 30 / Madrid Río – Centro de Interpretación de Madrid Río\, Paseo de la Chopera 6-10\, Arganzuela\, Madrid\, 28045\, Spain
ATTACH;FMTTYPE=image/png:https://parquessingularesoeste.es/wp-content/uploads/2024/04/SENDA-CENTRO-INTERPRETACIONMADRID-RIO-ADULTOS.png
END:VEVENT
BEGIN:VEVENT
DTSTART;TZID=Europe/Madrid:20240703T103000
DTEND;TZID=Europe/Madrid:20240703T113000
DTSTAMP:20260421T192036
CREATED:20240701T150724Z
LAST-MODIFIED:20240701T150724Z
UID:6800-1720002600-1720006200@parquessingularesoeste.es
SUMMARY:Mindfulness
DESCRIPTION:
URL:https://parquessingularesoeste.es/actividades/mindfulness-14/
LOCATION:Espacio Madrid Calle 30 / Madrid Río – Centro de Interpretación de Madrid Río\, Paseo de la Chopera 6-10\, Arganzuela\, Madrid\, 28045\, Spain
ATTACH;FMTTYPE=image/png:https://parquessingularesoeste.es/wp-content/uploads/2024/04/3-3.png
END:VEVENT
BEGIN:VEVENT
DTSTART;TZID=Europe/Madrid:20240629T190000
DTEND;TZID=Europe/Madrid:20240629T200000
DTSTAMP:20260421T192036
CREATED:20240516T205209Z
LAST-MODIFIED:20240619T095342Z
UID:6692-1719687600-1719691200@parquessingularesoeste.es
SUMMARY:Búsqueda del tesoro en el  Palacio de Cristal de la  Arganzuela
DESCRIPTION:
URL:https://parquessingularesoeste.es/actividades/busqueda-del-tesoro-en-el-palacio-de-cristal-de-la-arganzuela-3/
LOCATION:Espacio Madrid Calle 30 / Madrid Río – Centro de Interpretación de Madrid Río\, Paseo de la Chopera 6-10\, Arganzuela\, Madrid\, 28045\, Spain
ATTACH;FMTTYPE=image/png:https://parquessingularesoeste.es/wp-content/uploads/2024/05/Beige-Minimal-Info-About-Us-Instagram-Post-2-e1715892463743.png
END:VEVENT
BEGIN:VEVENT
DTSTART;TZID=Europe/Madrid:20240628T113000
DTEND;TZID=Europe/Madrid:20240628T123000
DTSTAMP:20260421T192036
CREATED:20240518T115203Z
LAST-MODIFIED:20240619T114342Z
UID:6756-1719574200-1719577800@parquessingularesoeste.es
SUMMARY:Club de lectura
DESCRIPTION:
URL:https://parquessingularesoeste.es/actividades/club-de-lectura-4/
LOCATION:Espacio Madrid Calle 30 / Madrid Río – Centro de Interpretación de Madrid Río\, Paseo de la Chopera 6-10\, Arganzuela\, Madrid\, 28045\, Spain
ATTACH;FMTTYPE=image/png:https://parquessingularesoeste.es/wp-content/uploads/2024/04/4-1.png
END:VEVENT
BEGIN:VEVENT
DTSTART;TZID=Europe/Madrid:20240628T103000
DTEND;TZID=Europe/Madrid:20240628T113000
DTSTAMP:20260421T192036
CREATED:20240517T084213Z
LAST-MODIFIED:20240619T094706Z
UID:6730-1719570600-1719574200@parquessingularesoeste.es
SUMMARY:Mindfulness
DESCRIPTION:
URL:https://parquessingularesoeste.es/actividades/mindfulness-12/
LOCATION:Espacio Madrid Calle 30 / Madrid Río – Centro de Interpretación de Madrid Río\, Paseo de la Chopera 6-10\, Arganzuela\, Madrid\, 28045\, Spain
ATTACH;FMTTYPE=image/png:https://parquessingularesoeste.es/wp-content/uploads/2024/04/3-3.png
END:VEVENT
BEGIN:VEVENT
DTSTART;TZID=Europe/Madrid:20240626T103000
DTEND;TZID=Europe/Madrid:20240626T113000
DTSTAMP:20260421T192036
CREATED:20240517T083656Z
LAST-MODIFIED:20240517T083656Z
UID:6724-1719397800-1719401400@parquessingularesoeste.es
SUMMARY:Mindfulness
DESCRIPTION:
URL:https://parquessingularesoeste.es/actividades/mindfulness-9/
LOCATION:Espacio Madrid Calle 30 / Madrid Río – Centro de Interpretación de Madrid Río\, Paseo de la Chopera 6-10\, Arganzuela\, Madrid\, 28045\, Spain
ATTACH;FMTTYPE=image/png:https://parquessingularesoeste.es/wp-content/uploads/2024/04/3-3.png
END:VEVENT
BEGIN:VEVENT
DTSTART;TZID=Europe/Madrid:20240625T103000
DTEND;TZID=Europe/Madrid:20240625T113000
DTSTAMP:20260421T192036
CREATED:20240517T081635Z
LAST-MODIFIED:20240517T081635Z
UID:6711-1719311400-1719315000@parquessingularesoeste.es
SUMMARY:Senda invernadero de  Arganzuela
DESCRIPTION:
URL:https://parquessingularesoeste.es/actividades/senda-invernadero-de-arganzuela-9/
LOCATION:Espacio Madrid Calle 30 / Madrid Río – Centro de Interpretación de Madrid Río\, Paseo de la Chopera 6-10\, Arganzuela\, Madrid\, 28045\, Spain
ATTACH;FMTTYPE=image/png:https://parquessingularesoeste.es/wp-content/uploads/2024/05/Beige-Minimal-Info-About-Us-Instagram-Post-e1715452595610.png
END:VEVENT
BEGIN:VEVENT
DTSTART;TZID=Europe/Madrid:20240622T190000
DTEND;TZID=Europe/Madrid:20240622T200000
DTSTAMP:20260421T192036
CREATED:20240517T080454Z
LAST-MODIFIED:20240619T095239Z
UID:6707-1719082800-1719086400@parquessingularesoeste.es
SUMMARY:Senda invernadero de  Arganzuela
DESCRIPTION:
URL:https://parquessingularesoeste.es/actividades/senda-invernadero-de-arganzuela-7/
LOCATION:Espacio Madrid Calle 30 / Madrid Río – Centro de Interpretación de Madrid Río\, Paseo de la Chopera 6-10\, Arganzuela\, Madrid\, 28045\, Spain
ATTACH;FMTTYPE=image/png:https://parquessingularesoeste.es/wp-content/uploads/2024/05/Beige-Minimal-Info-About-Us-Instagram-Post-e1715452595610.png
END:VEVENT
BEGIN:VEVENT
DTSTART;TZID=Europe/Madrid:20240621T113000
DTEND;TZID=Europe/Madrid:20240621T123000
DTSTAMP:20260421T192036
CREATED:20240516T211147Z
LAST-MODIFIED:20240619T114234Z
UID:6699-1718969400-1718973000@parquessingularesoeste.es
SUMMARY:Club de lectura
DESCRIPTION:
URL:https://parquessingularesoeste.es/actividades/club-de-lectura-3/
LOCATION:Espacio Madrid Calle 30 / Madrid Río – Centro de Interpretación de Madrid Río\, Paseo de la Chopera 6-10\, Arganzuela\, Madrid\, 28045\, Spain
ATTACH;FMTTYPE=image/png:https://parquessingularesoeste.es/wp-content/uploads/2024/04/4-1.png
END:VEVENT
BEGIN:VEVENT
DTSTART;TZID=Europe/Madrid:20240621T103000
DTEND;TZID=Europe/Madrid:20240621T113000
DTSTAMP:20260421T192036
CREATED:20240517T084456Z
LAST-MODIFIED:20240517T084456Z
UID:6732-1718965800-1718969400@parquessingularesoeste.es
SUMMARY:Mindfulness
DESCRIPTION:
URL:https://parquessingularesoeste.es/actividades/mindfulness-13/
LOCATION:Espacio Madrid Calle 30 / Madrid Río – Centro de Interpretación de Madrid Río\, Paseo de la Chopera 6-10\, Arganzuela\, Madrid\, 28045\, Spain
ATTACH;FMTTYPE=image/png:https://parquessingularesoeste.es/wp-content/uploads/2024/04/3-3.png
END:VEVENT
BEGIN:VEVENT
DTSTART;TZID=Europe/Madrid:20240619T103000
DTEND;TZID=Europe/Madrid:20240619T113000
DTSTAMP:20260421T192036
CREATED:20240517T083550Z
LAST-MODIFIED:20240517T083550Z
UID:6722-1718793000-1718796600@parquessingularesoeste.es
SUMMARY:Mindfulness
DESCRIPTION:
URL:https://parquessingularesoeste.es/actividades/mindfulness-8/
LOCATION:Espacio Madrid Calle 30 / Madrid Río – Centro de Interpretación de Madrid Río\, Paseo de la Chopera 6-10\, Arganzuela\, Madrid\, 28045\, Spain
ATTACH;FMTTYPE=image/png:https://parquessingularesoeste.es/wp-content/uploads/2024/04/3-2.png
END:VEVENT
BEGIN:VEVENT
DTSTART;TZID=Europe/Madrid:20240615T183000
DTEND;TZID=Europe/Madrid:20240615T193000
DTSTAMP:20260421T192036
CREATED:20240516T205105Z
LAST-MODIFIED:20240516T205105Z
UID:6690-1718476200-1718479800@parquessingularesoeste.es
SUMMARY:Búsqueda del tesoro en el  Palacio de Cristal de la  Arganzuela
DESCRIPTION:
URL:https://parquessingularesoeste.es/actividades/busqueda-del-tesoro-en-el-palacio-de-cristal-de-la-arganzuela-2/
ATTACH;FMTTYPE=image/png:https://parquessingularesoeste.es/wp-content/uploads/2024/05/Beige-Minimal-Info-About-Us-Instagram-Post-2-e1715892463743.png
END:VEVENT
BEGIN:VEVENT
DTSTART;TZID=Europe/Madrid:20240614T103000
DTEND;TZID=Europe/Madrid:20240614T113000
DTSTAMP:20260421T192036
CREATED:20240517T084110Z
LAST-MODIFIED:20240517T084110Z
UID:6728-1718361000-1718364600@parquessingularesoeste.es
SUMMARY:Mindfulness
DESCRIPTION:
URL:https://parquessingularesoeste.es/actividades/mindfulness-11/
LOCATION:Espacio Madrid Calle 30 / Madrid Río – Centro de Interpretación de Madrid Río\, Paseo de la Chopera 6-10\, Arganzuela\, Madrid\, 28045\, Spain
ATTACH;FMTTYPE=image/png:https://parquessingularesoeste.es/wp-content/uploads/2024/04/3-3.png
END:VEVENT
END:VCALENDAR