BEGIN:VCALENDAR
VERSION:2.0
PRODID:-//Parques Singulares Oeste - ECPv6.15.20//NONSGML v1.0//EN
CALSCALE:GREGORIAN
METHOD:PUBLISH
X-ORIGINAL-URL:https://parquessingularesoeste.es
X-WR-CALDESC:Eventos para Parques Singulares Oeste
REFRESH-INTERVAL;VALUE=DURATION:PT1H
X-Robots-Tag:noindex
X-PUBLISHED-TTL:PT1H
BEGIN:VTIMEZONE
TZID:Europe/Madrid
BEGIN:DAYLIGHT
TZOFFSETFROM:+0100
TZOFFSETTO:+0200
TZNAME:CEST
DTSTART:20230326T010000
END:DAYLIGHT
BEGIN:STANDARD
TZOFFSETFROM:+0200
TZOFFSETTO:+0100
TZNAME:CET
DTSTART:20231029T010000
END:STANDARD
BEGIN:DAYLIGHT
TZOFFSETFROM:+0100
TZOFFSETTO:+0200
TZNAME:CEST
DTSTART:20240331T010000
END:DAYLIGHT
BEGIN:STANDARD
TZOFFSETFROM:+0200
TZOFFSETTO:+0100
TZNAME:CET
DTSTART:20241027T010000
END:STANDARD
BEGIN:DAYLIGHT
TZOFFSETFROM:+0100
TZOFFSETTO:+0200
TZNAME:CEST
DTSTART:20250330T010000
END:DAYLIGHT
BEGIN:STANDARD
TZOFFSETFROM:+0200
TZOFFSETTO:+0100
TZNAME:CET
DTSTART:20251026T010000
END:STANDARD
END:VTIMEZONE
BEGIN:VEVENT
DTSTART;TZID=Europe/Madrid:20241027T120000
DTEND;TZID=Europe/Madrid:20241027T130000
DTSTAMP:20260421T134650
CREATED:20240925T161349Z
LAST-MODIFIED:20240925T161349Z
UID:6981-1730030400-1730034000@parquessingularesoeste.es
SUMMARY:Búsqueda del tesoro en el Palacio de Cristal de la Arganzuela (Invernadero)
DESCRIPTION:
URL:https://parquessingularesoeste.es/actividades/busqueda-del-tesoro-en-el-palacio-de-cristal-de-la-arganzuela-invernadero-3/
LOCATION:Invernadero de Arganzuela\, Punto de encuentro: Puerta principal del Invernadero (Palacio de Cristal de la Arganzuela\, Paseo de la Chopera 6-10)\, Madrid\, 28045
ATTACH;FMTTYPE=image/png:https://parquessingularesoeste.es/wp-content/uploads/2024/05/Beige-Minimal-Info-About-Us-Instagram-Post-2-e1715892463743.png
END:VEVENT
BEGIN:VEVENT
DTSTART;TZID=Europe/Madrid:20241026T120000
DTEND;TZID=Europe/Madrid:20241026T130000
DTSTAMP:20260421T134650
CREATED:20240925T161101Z
LAST-MODIFIED:20241016T142445Z
UID:6976-1729944000-1729947600@parquessingularesoeste.es
SUMMARY:Aula Ambiental Familiar por el Día Internacional contra el Cambio Climático
DESCRIPTION:26 octubre:\nPara familias\, niños de 5 a 12 años. Máximo de 15 personas.\nTaller aplicado sobre cambio climático.
URL:https://parquessingularesoeste.es/actividades/aula-familiar-3/
LOCATION:Invernadero de Arganzuela\, Punto de encuentro: Puerta principal del Invernadero (Palacio de Cristal de la Arganzuela\, Paseo de la Chopera 6-10)\, Madrid\, 28045
ATTACH;FMTTYPE=image/png:https://parquessingularesoeste.es/wp-content/uploads/2024/09/Beige-Minimal-Info-About-Us-Instagram-Post-2-e1727770113215.png
END:VEVENT
BEGIN:VEVENT
DTSTART;TZID=Europe/Madrid:20241025T123000
DTEND;TZID=Europe/Madrid:20241025T133000
DTSTAMP:20260421T134650
CREATED:20240925T155607Z
LAST-MODIFIED:20241016T142426Z
UID:6968-1729859400-1729863000@parquessingularesoeste.es
SUMMARY:Aula Ambiental por el Día Internacional contra el Cambio Climático
DESCRIPTION:25 de octubre:\nPara adultos\nProyección + mesa redonda.\nLugar Invernadero
URL:https://parquessingularesoeste.es/actividades/aula-ambiental-4/
LOCATION:Invernadero de Arganzuela\, Punto de encuentro: Puerta principal del Invernadero (Palacio de Cristal de la Arganzuela\, Paseo de la Chopera 6-10)\, Madrid\, 28045
ATTACH;FMTTYPE=image/png:https://parquessingularesoeste.es/wp-content/uploads/2024/09/Beige-Minimal-Info-About-Us-Instagram-Post-e1727279991302.png
END:VEVENT
BEGIN:VEVENT
DTSTART;TZID=Europe/Madrid:20241024T123000
DTEND;TZID=Europe/Madrid:20241024T133000
DTSTAMP:20260421T134650
CREATED:20240925T132127Z
LAST-MODIFIED:20240925T132127Z
UID:6928-1729773000-1729776600@parquessingularesoeste.es
SUMMARY:Senda invernadero de Arganzuela
DESCRIPTION:
URL:https://parquessingularesoeste.es/actividades/senda-invernadero-de-arganzuela-19/
LOCATION:Invernadero de Arganzuela\, Punto de encuentro: Puerta principal del Invernadero (Palacio de Cristal de la Arganzuela\, Paseo de la Chopera 6-10)\, Madrid\, 28045
ATTACH;FMTTYPE=image/png:https://parquessingularesoeste.es/wp-content/uploads/2024/05/Beige-Minimal-Info-About-Us-Instagram-Post-e1715452595610.png
END:VEVENT
BEGIN:VEVENT
DTSTART;TZID=Europe/Madrid:20241023T123000
DTEND;TZID=Europe/Madrid:20241023T133000
DTSTAMP:20260421T134650
CREATED:20240925T150805Z
LAST-MODIFIED:20240925T150805Z
UID:6947-1729686600-1729690200@parquessingularesoeste.es
SUMMARY:Mindfulness
DESCRIPTION:
URL:https://parquessingularesoeste.es/actividades/mindfulness-26/
LOCATION:Invernadero de Arganzuela\, Punto de encuentro: Puerta principal del Invernadero (Palacio de Cristal de la Arganzuela\, Paseo de la Chopera 6-10)\, Madrid\, 28045
ATTACH;FMTTYPE=image/png:https://parquessingularesoeste.es/wp-content/uploads/2024/04/3-3.png
END:VEVENT
BEGIN:VEVENT
DTSTART;TZID=Europe/Madrid:20241022T123000
DTEND;TZID=Europe/Madrid:20241022T133000
DTSTAMP:20260421T134650
CREATED:20240925T152406Z
LAST-MODIFIED:20240925T152406Z
UID:6957-1729600200-1729603800@parquessingularesoeste.es
SUMMARY:Club de lectura
DESCRIPTION:
URL:https://parquessingularesoeste.es/actividades/club-de-lectura-16/
LOCATION:Invernadero de Arganzuela\, Punto de encuentro: Puerta principal del Invernadero (Palacio de Cristal de la Arganzuela\, Paseo de la Chopera 6-10)\, Madrid\, 28045
ATTACH;FMTTYPE=image/png:https://parquessingularesoeste.es/wp-content/uploads/2024/04/4-1.png
END:VEVENT
BEGIN:VEVENT
DTSTART;TZID=Europe/Madrid:20241020T120000
DTEND;TZID=Europe/Madrid:20241020T130000
DTSTAMP:20260421T134650
CREATED:20241002T060005Z
LAST-MODIFIED:20241002T080705Z
UID:6932-1729425600-1729429200@parquessingularesoeste.es
SUMMARY:Senda invernadero de Arganzuela
DESCRIPTION:
URL:https://parquessingularesoeste.es/actividades/senda-invernadero-de-arganzuela-21/
LOCATION:Invernadero de Arganzuela\, Punto de encuentro: Puerta principal del Invernadero (Palacio de Cristal de la Arganzuela\, Paseo de la Chopera 6-10)\, Madrid\, 28045
ATTACH;FMTTYPE=image/png:https://parquessingularesoeste.es/wp-content/uploads/2024/05/Beige-Minimal-Info-About-Us-Instagram-Post-e1715452595610.png
END:VEVENT
BEGIN:VEVENT
DTSTART;TZID=Europe/Madrid:20241019T120000
DTEND;TZID=Europe/Madrid:20241019T130000
DTSTAMP:20260421T134650
CREATED:20240925T161007Z
LAST-MODIFIED:20241016T142400Z
UID:6974-1729339200-1729342800@parquessingularesoeste.es
SUMMARY:Aula Ambiental Familiar por el Día Internacional de la Protección de la Naturaleza
DESCRIPTION:19 octubre:\nPara familias\, niños de 5 a 12 años. Máximo de 15 personas.\nTaller crea tu espacio natural protegido.
URL:https://parquessingularesoeste.es/actividades/aula-familiar-2/
LOCATION:Invernadero de Arganzuela\, Punto de encuentro: Puerta principal del Invernadero (Palacio de Cristal de la Arganzuela\, Paseo de la Chopera 6-10)\, Madrid\, 28045
ATTACH;FMTTYPE=image/png:https://parquessingularesoeste.es/wp-content/uploads/2024/09/Beige-Minimal-Info-About-Us-Instagram-Post-2-e1727770113215.png
END:VEVENT
BEGIN:VEVENT
DTSTART;TZID=Europe/Madrid:20241018T123000
DTEND;TZID=Europe/Madrid:20241018T133000
DTSTAMP:20260421T134650
CREATED:20240925T155251Z
LAST-MODIFIED:20241016T142304Z
UID:6966-1729254600-1729258200@parquessingularesoeste.es
SUMMARY:Aula Ambiental por el Día Internacional de la Protección de la Naturaleza
DESCRIPTION:18 de octubre:\nPara adultos\nCharla + taller.\nLugar Invernadero.
URL:https://parquessingularesoeste.es/actividades/aula-ambiental-3/
LOCATION:Invernadero de Arganzuela\, Punto de encuentro: Puerta principal del Invernadero (Palacio de Cristal de la Arganzuela\, Paseo de la Chopera 6-10)\, Madrid\, 28045
ATTACH;FMTTYPE=image/png:https://parquessingularesoeste.es/wp-content/uploads/2024/09/Beige-Minimal-Info-About-Us-Instagram-Post-e1727279991302.png
END:VEVENT
BEGIN:VEVENT
DTSTART;TZID=Europe/Madrid:20241017T123000
DTEND;TZID=Europe/Madrid:20241017T133000
DTSTAMP:20260421T134650
CREATED:20240925T140836Z
LAST-MODIFIED:20241016T131138Z
UID:6936-1729168200-1729171800@parquessingularesoeste.es
SUMMARY:Senda Centro Pza. Oriente\, Pza. España y Sabatini
DESCRIPTION:Punto de encuentro: la estatua ecuestre de Felipe IV\, o fuente de Felipe IV\, conjunto escultórico ubicado en el centro de la plaza de Oriente.
URL:https://parquessingularesoeste.es/actividades/senda-centro-pza-oriente-pza-espana-y-sabatini/
LOCATION:Estatua ecuestre de Felipe IV\, Punto de encuentro: la estatua ecuestre de Felipe IV\, o fuente de Felipe IV\, conjunto escultórico ubicado en el centro de la plaza de Oriente.
ATTACH;FMTTYPE=image/png:https://parquessingularesoeste.es/wp-content/uploads/2024/05/Beige-Minimal-Info-About-Us-Instagram-Post-4.png
END:VEVENT
BEGIN:VEVENT
DTSTART;TZID=Europe/Madrid:20241016T123000
DTEND;TZID=Europe/Madrid:20241016T133000
DTSTAMP:20260421T134650
CREATED:20240925T150625Z
LAST-MODIFIED:20240925T150625Z
UID:6945-1729081800-1729085400@parquessingularesoeste.es
SUMMARY:Mindfulness
DESCRIPTION:
URL:https://parquessingularesoeste.es/actividades/mindfulness-25/
LOCATION:Invernadero de Arganzuela\, Punto de encuentro: Puerta principal del Invernadero (Palacio de Cristal de la Arganzuela\, Paseo de la Chopera 6-10)\, Madrid\, 28045
ATTACH;FMTTYPE=image/png:https://parquessingularesoeste.es/wp-content/uploads/2024/04/3-3.png
END:VEVENT
BEGIN:VEVENT
DTSTART;TZID=Europe/Madrid:20241015T123000
DTEND;TZID=Europe/Madrid:20241015T133000
DTSTAMP:20260421T134650
CREATED:20240925T151957Z
LAST-MODIFIED:20240925T151957Z
UID:6955-1728995400-1728999000@parquessingularesoeste.es
SUMMARY:Club de lectura
DESCRIPTION:
URL:https://parquessingularesoeste.es/actividades/club-de-lectura-15/
LOCATION:Invernadero de Arganzuela\, Punto de encuentro: Puerta principal del Invernadero (Palacio de Cristal de la Arganzuela\, Paseo de la Chopera 6-10)\, Madrid\, 28045
ATTACH;FMTTYPE=image/png:https://parquessingularesoeste.es/wp-content/uploads/2024/04/4-1.png
END:VEVENT
BEGIN:VEVENT
DTSTART;TZID=Europe/Madrid:20241013T120000
DTEND;TZID=Europe/Madrid:20241013T130000
DTSTAMP:20260421T134650
CREATED:20240925T161244Z
LAST-MODIFIED:20240927T071653Z
UID:6979-1728820800-1728824400@parquessingularesoeste.es
SUMMARY:Búsqueda del tesoro en el Palacio de Cristal de la Arganzuela (Invernadero)
DESCRIPTION:Juego de pistas a través del cual aprenderemos sobre las plantas que encontramos en el Invernadero de Arganzuela.
URL:https://parquessingularesoeste.es/actividades/busqueda-del-tesoro-en-el-palacio-de-cristal-de-la-arganzuela-invernadero-2/
LOCATION:Invernadero de Arganzuela\, Punto de encuentro: Puerta principal del Invernadero (Palacio de Cristal de la Arganzuela\, Paseo de la Chopera 6-10)\, Madrid\, 28045
ATTACH;FMTTYPE=image/png:https://parquessingularesoeste.es/wp-content/uploads/2024/05/Beige-Minimal-Info-About-Us-Instagram-Post-2-e1715892463743.png
END:VEVENT
BEGIN:VEVENT
DTSTART;TZID=Europe/Madrid:20241012T120000
DTEND;TZID=Europe/Madrid:20241012T133000
DTSTAMP:20260421T134650
CREATED:20240925T161524Z
LAST-MODIFIED:20240927T071615Z
UID:6983-1728734400-1728739800@parquessingularesoeste.es
SUMMARY:Geocaching
DESCRIPTION:Lugar Parque Lineal del Manzanares\nPunto de Encuentro: Auditorio (Plaza Verde) \nGymkana ambiental guiada
URL:https://parquessingularesoeste.es/actividades/geocaching/
LOCATION:Entrada Parque Lineal Manzanares\, Punto de encuentro: Plaza Verde. Auditorio del Parque Lineal del Manzanares. Entrando al parque por la calle Camino de Perales\, 48.\, Madrid\, 28041
ATTACH;FMTTYPE=image/png:https://parquessingularesoeste.es/wp-content/uploads/2024/05/Beige-Minimal-Info-About-Us-Instagram-Post-3-e1715893029805.png
END:VEVENT
BEGIN:VEVENT
DTSTART;TZID=Europe/Madrid:20241011T123000
DTEND;TZID=Europe/Madrid:20241011T133000
DTSTAMP:20260421T134650
CREATED:20240925T155127Z
LAST-MODIFIED:20241016T142514Z
UID:6964-1728649800-1728653400@parquessingularesoeste.es
SUMMARY:Aula Ambiental por el Día Internacional de las Aves Migratorias
DESCRIPTION:11 octubre:\nPara adultos\nActividad: En busca de las aves. Ruta ornitólogica Madrid Río.\nLugar Invernadero.
URL:https://parquessingularesoeste.es/actividades/aula-ambiental-2/
LOCATION:Invernadero de Arganzuela\, Punto de encuentro: Puerta principal del Invernadero (Palacio de Cristal de la Arganzuela\, Paseo de la Chopera 6-10)\, Madrid\, 28045
ATTACH;FMTTYPE=image/png:https://parquessingularesoeste.es/wp-content/uploads/2024/09/Beige-Minimal-Info-About-Us-Instagram-Post-e1727279991302.png
END:VEVENT
BEGIN:VEVENT
DTSTART;TZID=Europe/Madrid:20241010T123000
DTEND;TZID=Europe/Madrid:20241010T133000
DTSTAMP:20260421T134650
CREATED:20240925T134851Z
LAST-MODIFIED:20241001T081331Z
UID:6934-1728563400-1728567000@parquessingularesoeste.es
SUMMARY:Senda Parque de Madrid Río
DESCRIPTION:Hora: 12:30h a 13:30h aprox
URL:https://parquessingularesoeste.es/actividades/senda-de-interpretacion-y-parque-de-madrid-rio-7/
LOCATION:Espacio Madrid Calle 30 / Madrid Río – Centro de Interpretación de Madrid Río\, Paseo de la Chopera 6-10\, Arganzuela\, Madrid\, 28045\, Spain
ATTACH;FMTTYPE=image/png:https://parquessingularesoeste.es/wp-content/uploads/2024/09/SENDA-CENTRO-INTERPRETACIONMADRID-RIO-ADULTOS.png
END:VEVENT
BEGIN:VEVENT
DTSTART;TZID=Europe/Madrid:20241009T123000
DTEND;TZID=Europe/Madrid:20241009T133000
DTSTAMP:20260421T134650
CREATED:20240925T150452Z
LAST-MODIFIED:20240925T150452Z
UID:6943-1728477000-1728480600@parquessingularesoeste.es
SUMMARY:Mindfulness
DESCRIPTION:
URL:https://parquessingularesoeste.es/actividades/mindfulness-24/
LOCATION:Invernadero de Arganzuela\, Punto de encuentro: Puerta principal del Invernadero (Palacio de Cristal de la Arganzuela\, Paseo de la Chopera 6-10)\, Madrid\, 28045
ATTACH;FMTTYPE=image/png:https://parquessingularesoeste.es/wp-content/uploads/2024/04/3-3.png
END:VEVENT
BEGIN:VEVENT
DTSTART;TZID=Europe/Madrid:20241008T123000
DTEND;TZID=Europe/Madrid:20241008T133000
DTSTAMP:20260421T134650
CREATED:20240925T151628Z
LAST-MODIFIED:20240925T151811Z
UID:6953-1728390600-1728394200@parquessingularesoeste.es
SUMMARY:Club de lectura
DESCRIPTION:
URL:https://parquessingularesoeste.es/actividades/club-de-lectura-14/
LOCATION:Invernadero de Arganzuela\, Punto de encuentro: Puerta principal del Invernadero (Palacio de Cristal de la Arganzuela\, Paseo de la Chopera 6-10)\, Madrid\, 28045
ATTACH;FMTTYPE=image/png:https://parquessingularesoeste.es/wp-content/uploads/2024/04/4-1.png
END:VEVENT
BEGIN:VEVENT
DTSTART;TZID=Europe/Madrid:20241006T120000
DTEND;TZID=Europe/Madrid:20241006T130000
DTSTAMP:20260421T134650
CREATED:20240925T132235Z
LAST-MODIFIED:20240925T132235Z
UID:6930-1728216000-1728219600@parquessingularesoeste.es
SUMMARY:Senda invernadero de Arganzuela
DESCRIPTION:
URL:https://parquessingularesoeste.es/actividades/senda-invernadero-de-arganzuela-20/
LOCATION:Invernadero de Arganzuela\, Punto de encuentro: Puerta principal del Invernadero (Palacio de Cristal de la Arganzuela\, Paseo de la Chopera 6-10)\, Madrid\, 28045
ATTACH;FMTTYPE=image/png:https://parquessingularesoeste.es/wp-content/uploads/2024/05/Beige-Minimal-Info-About-Us-Instagram-Post-e1715452595610.png
END:VEVENT
BEGIN:VEVENT
DTSTART;TZID=Europe/Madrid:20241005T120000
DTEND;TZID=Europe/Madrid:20241005T130000
DTSTAMP:20260421T134650
CREATED:20240925T160906Z
LAST-MODIFIED:20241016T142534Z
UID:6971-1728129600-1728133200@parquessingularesoeste.es
SUMMARY:Aula Ambiental Familiar por el Día Internacional de los Hábitats y los Animales
DESCRIPTION:5 octubre:\nPara familias\, niños de 5 a 12 años. Máximo de 15 personas.\nRecorrido guiado. Reconoce la vida de Madrid Río.
URL:https://parquessingularesoeste.es/actividades/aula-familiar/
LOCATION:Invernadero de Arganzuela\, Punto de encuentro: Puerta principal del Invernadero (Palacio de Cristal de la Arganzuela\, Paseo de la Chopera 6-10)\, Madrid\, 28045
ATTACH;FMTTYPE=image/png:https://parquessingularesoeste.es/wp-content/uploads/2024/09/Beige-Minimal-Info-About-Us-Instagram-Post-2-e1727770113215.png
END:VEVENT
BEGIN:VEVENT
DTSTART;TZID=Europe/Madrid:20241004T123000
DTEND;TZID=Europe/Madrid:20241004T133000
DTSTAMP:20260421T134650
CREATED:20240925T154832Z
LAST-MODIFIED:20241016T142339Z
UID:6961-1728045000-1728048600@parquessingularesoeste.es
SUMMARY:Aula Ambiental por el Día Internacional de los Hábitats y los Animales
DESCRIPTION:4 de octubre:\nPara adultos.\nSenda temática por el Día Mundial de los Hábitats y los Animales en el Invernadero de Arganzuela.
URL:https://parquessingularesoeste.es/actividades/aula-ambiental/
LOCATION:Invernadero de Arganzuela\, Punto de encuentro: Puerta principal del Invernadero (Palacio de Cristal de la Arganzuela\, Paseo de la Chopera 6-10)\, Madrid\, 28045
ATTACH;FMTTYPE=image/png:https://parquessingularesoeste.es/wp-content/uploads/2024/09/Beige-Minimal-Info-About-Us-Instagram-Post-e1727279991302.png
END:VEVENT
BEGIN:VEVENT
DTSTART;TZID=Europe/Madrid:20241003T123000
DTEND;TZID=Europe/Madrid:20241003T133000
DTSTAMP:20260421T134650
CREATED:20240925T132017Z
LAST-MODIFIED:20240925T132017Z
UID:6926-1727958600-1727962200@parquessingularesoeste.es
SUMMARY:Senda invernadero de Arganzuela
DESCRIPTION:
URL:https://parquessingularesoeste.es/actividades/senda-invernadero-de-arganzuela-18/
LOCATION:Invernadero de Arganzuela\, Punto de encuentro: Puerta principal del Invernadero (Palacio de Cristal de la Arganzuela\, Paseo de la Chopera 6-10)\, Madrid\, 28045
ATTACH;FMTTYPE=image/png:https://parquessingularesoeste.es/wp-content/uploads/2024/04/2-6.png
END:VEVENT
BEGIN:VEVENT
DTSTART;TZID=Europe/Madrid:20241002T123000
DTEND;TZID=Europe/Madrid:20241002T133000
DTSTAMP:20260421T134650
CREATED:20240925T150238Z
LAST-MODIFIED:20240925T150238Z
UID:6941-1727872200-1727875800@parquessingularesoeste.es
SUMMARY:Mindfulness
DESCRIPTION:
URL:https://parquessingularesoeste.es/actividades/mindfulness-23/
LOCATION:Invernadero de Arganzuela\, Punto de encuentro: Puerta principal del Invernadero (Palacio de Cristal de la Arganzuela\, Paseo de la Chopera 6-10)\, Madrid\, 28045
ATTACH;FMTTYPE=image/png:https://parquessingularesoeste.es/wp-content/uploads/2024/04/3-3.png
END:VEVENT
BEGIN:VEVENT
DTSTART;TZID=Europe/Madrid:20241001T123000
DTEND;TZID=Europe/Madrid:20241001T133000
DTSTAMP:20260421T134650
CREATED:20240925T151417Z
LAST-MODIFIED:20240925T152804Z
UID:6951-1727785800-1727789400@parquessingularesoeste.es
SUMMARY:Club de lectura
DESCRIPTION:
URL:https://parquessingularesoeste.es/actividades/club-de-lectura-13/
LOCATION:Invernadero de Arganzuela\, Punto de encuentro: Puerta principal del Invernadero (Palacio de Cristal de la Arganzuela\, Paseo de la Chopera 6-10)\, Madrid\, 28045
ATTACH;FMTTYPE=image/png:https://parquessingularesoeste.es/wp-content/uploads/2024/04/4-1.png
END:VEVENT
BEGIN:VEVENT
DTSTART;TZID=Europe/Madrid:20240928T183000
DTEND;TZID=Europe/Madrid:20240928T193000
DTSTAMP:20260421T134650
CREATED:20240827T114512Z
LAST-MODIFIED:20240827T114512Z
UID:6878-1727548200-1727551800@parquessingularesoeste.es
SUMMARY:Búsqueda del tesoro en el Palacio de Cristal de la Arganzuela (Invernadero)
DESCRIPTION:
URL:https://parquessingularesoeste.es/actividades/busqueda-del-tesoro-en-el-palacio-de-cristal-de-la-arganzuela-invernadero/
LOCATION:Invernadero de Arganzuela\, Punto de encuentro: Puerta principal del Invernadero (Palacio de Cristal de la Arganzuela\, Paseo de la Chopera 6-10)\, Madrid\, 28045
ATTACH;FMTTYPE=image/png:https://parquessingularesoeste.es/wp-content/uploads/2024/05/Beige-Minimal-Info-About-Us-Instagram-Post-2-e1715892463743.png
END:VEVENT
BEGIN:VEVENT
DTSTART;TZID=Europe/Madrid:20240928T110000
DTEND;TZID=Europe/Madrid:20240928T130000
DTSTAMP:20260421T134650
CREATED:20240915T105708Z
LAST-MODIFIED:20240915T105708Z
UID:6922-1727521200-1727528400@parquessingularesoeste.es
SUMMARY:Sábados al Parque
DESCRIPTION:Lugar de encuentro: Invernadero de Arganzuela
URL:https://parquessingularesoeste.es/actividades/sabados-al-parque-2/
LOCATION:Invernadero de Arganzuela\, Punto de encuentro: Puerta principal del Invernadero (Palacio de Cristal de la Arganzuela\, Paseo de la Chopera 6-10)\, Madrid\, 28045
ATTACH;FMTTYPE=image/png:https://parquessingularesoeste.es/wp-content/uploads/2024/05/Beige-Minimal-Info-About-Us-Instagram-Post-1-e1715454294172.png
END:VEVENT
BEGIN:VEVENT
DTSTART;TZID=Europe/Madrid:20240927T113000
DTEND;TZID=Europe/Madrid:20240927T123000
DTSTAMP:20260421T134650
CREATED:20240827T112521Z
LAST-MODIFIED:20240915T110724Z
UID:6867-1727436600-1727440200@parquessingularesoeste.es
SUMMARY:Club de Lectura
DESCRIPTION:
URL:https://parquessingularesoeste.es/actividades/club-de-lectura-12/
LOCATION:Invernadero de Arganzuela\, Punto de encuentro: Puerta principal del Invernadero (Palacio de Cristal de la Arganzuela\, Paseo de la Chopera 6-10)\, Madrid\, 28045
ATTACH;FMTTYPE=image/png:https://parquessingularesoeste.es/wp-content/uploads/2024/04/4.png
END:VEVENT
BEGIN:VEVENT
DTSTART;TZID=Europe/Madrid:20240927T103000
DTEND;TZID=Europe/Madrid:20240927T113000
DTSTAMP:20260421T134650
CREATED:20240827T115153Z
LAST-MODIFIED:20240827T115153Z
UID:6886-1727433000-1727436600@parquessingularesoeste.es
SUMMARY:Mindfulness
DESCRIPTION:
URL:https://parquessingularesoeste.es/actividades/mindfulness-22/
LOCATION:Invernadero de Arganzuela\, Punto de encuentro: Puerta principal del Invernadero (Palacio de Cristal de la Arganzuela\, Paseo de la Chopera 6-10)\, Madrid\, 28045
ATTACH;FMTTYPE=image/png:https://parquessingularesoeste.es/wp-content/uploads/2024/04/3-3.png
END:VEVENT
BEGIN:VEVENT
DTSTART;TZID=Europe/Madrid:20240926T103000
DTEND;TZID=Europe/Madrid:20240926T120000
DTSTAMP:20260421T134650
CREATED:20240827T111700Z
LAST-MODIFIED:20240912T100126Z
UID:6858-1727346600-1727352000@parquessingularesoeste.es
SUMMARY:Parque Lineal del Manzanares
DESCRIPTION:Punto de encuentro: auditorio (plaza verde) \nDuración aprox de 90 min
URL:https://parquessingularesoeste.es/actividades/parque-lineal-del-manzanares/
LOCATION:Entrada Parque Lineal Manzanares\, Punto de encuentro: Plaza Verde. Auditorio del Parque Lineal del Manzanares. Entrando al parque por la calle Camino de Perales\, 48.\, Madrid\, 28041
ATTACH;FMTTYPE=image/png:https://parquessingularesoeste.es/wp-content/uploads/2024/08/Beige-Minimal-Info-About-Us-Instagram-Post-5-e1727280011589.png
END:VEVENT
BEGIN:VEVENT
DTSTART;TZID=Europe/Madrid:20240925T103000
DTEND;TZID=Europe/Madrid:20240925T113000
DTSTAMP:20260421T134650
CREATED:20240827T114920Z
LAST-MODIFIED:20240827T114920Z
UID:6882-1727260200-1727263800@parquessingularesoeste.es
SUMMARY:Mindfulness
DESCRIPTION:
URL:https://parquessingularesoeste.es/actividades/mindfulness-20/
LOCATION:Invernadero de Arganzuela\, Punto de encuentro: Puerta principal del Invernadero (Palacio de Cristal de la Arganzuela\, Paseo de la Chopera 6-10)\, Madrid\, 28045
ATTACH;FMTTYPE=image/png:https://parquessingularesoeste.es/wp-content/uploads/2024/04/3-3.png
END:VEVENT
END:VCALENDAR