BEGIN:VCALENDAR
VERSION:2.0
PRODID:-//Parques Singulares Oeste - ECPv6.15.20//NONSGML v1.0//EN
CALSCALE:GREGORIAN
METHOD:PUBLISH
X-WR-CALNAME:Parques Singulares Oeste
X-ORIGINAL-URL:https://parquessingularesoeste.es
X-WR-CALDESC:Eventos para Parques Singulares Oeste
REFRESH-INTERVAL;VALUE=DURATION:PT1H
X-Robots-Tag:noindex
X-PUBLISHED-TTL:PT1H
BEGIN:VTIMEZONE
TZID:Europe/Madrid
BEGIN:DAYLIGHT
TZOFFSETFROM:+0100
TZOFFSETTO:+0200
TZNAME:CEST
DTSTART:20240331T010000
END:DAYLIGHT
BEGIN:STANDARD
TZOFFSETFROM:+0200
TZOFFSETTO:+0100
TZNAME:CET
DTSTART:20241027T010000
END:STANDARD
BEGIN:DAYLIGHT
TZOFFSETFROM:+0100
TZOFFSETTO:+0200
TZNAME:CEST
DTSTART:20250330T010000
END:DAYLIGHT
BEGIN:STANDARD
TZOFFSETFROM:+0200
TZOFFSETTO:+0100
TZNAME:CET
DTSTART:20251026T010000
END:STANDARD
BEGIN:DAYLIGHT
TZOFFSETFROM:+0100
TZOFFSETTO:+0200
TZNAME:CEST
DTSTART:20260329T010000
END:DAYLIGHT
BEGIN:STANDARD
TZOFFSETFROM:+0200
TZOFFSETTO:+0100
TZNAME:CET
DTSTART:20261025T010000
END:STANDARD
END:VTIMEZONE
BEGIN:VEVENT
DTSTART;TZID=Europe/Madrid:20250228T123000
DTEND;TZID=Europe/Madrid:20250228T133000
DTSTAMP:20260421T021818
CREATED:20250109T112648Z
LAST-MODIFIED:20250109T112648Z
UID:7448-1740745800-1740749400@parquessingularesoeste.es
SUMMARY:Composiciones Botánicas
DESCRIPTION:
URL:https://parquessingularesoeste.es/actividades/composiciones-botanicas-4/
LOCATION:Invernadero de Arganzuela\, Punto de encuentro: Puerta principal del Invernadero (Palacio de Cristal de la Arganzuela\, Paseo de la Chopera 6-10)\, Madrid\, 28045
CATEGORIES:Para adultos
ATTACH;FMTTYPE=image/png:https://parquessingularesoeste.es/wp-content/uploads/2025/01/SENDA-CENTRO-INTERPRETACIONMADRID-RIO-ADULTOS-12.png
ORGANIZER;CN="Centro de Interpretaci%C3%B3n de Madrid R%C3%ADo":MAILTO:info@parquessingularesoeste.es
END:VEVENT
BEGIN:VEVENT
DTSTART;TZID=Europe/Madrid:20250227T123000
DTEND;TZID=Europe/Madrid:20250227T140000
DTSTAMP:20260421T021818
CREATED:20250109T110117Z
LAST-MODIFIED:20250109T110117Z
UID:7422-1740659400-1740664800@parquessingularesoeste.es
SUMMARY:Visita Guiada Parque Lineal del Manzanares
DESCRIPTION:
URL:https://parquessingularesoeste.es/actividades/visita-guiada-parque-lineal-del-manzanares-4/
LOCATION:Entrada Parque Lineal Manzanares\, Punto de encuentro: Plaza Verde. Auditorio del Parque Lineal del Manzanares. Entrando al parque por la calle Camino de Perales\, 48.\, Madrid\, 28041
CATEGORIES:Para adultos
ATTACH;FMTTYPE=image/png:https://parquessingularesoeste.es/wp-content/uploads/2024/08/Beige-Minimal-Info-About-Us-Instagram-Post-5-e1727280011589.png
ORGANIZER;CN="Centro de Interpretaci%C3%B3n de Madrid R%C3%ADo":MAILTO:info@parquessingularesoeste.es
END:VEVENT
BEGIN:VEVENT
DTSTART;TZID=Europe/Madrid:20250226T123000
DTEND;TZID=Europe/Madrid:20250226T133000
DTSTAMP:20260421T021818
CREATED:20250109T111821Z
LAST-MODIFIED:20250109T111821Z
UID:7439-1740573000-1740576600@parquessingularesoeste.es
SUMMARY:Mindfulness
DESCRIPTION:
URL:https://parquessingularesoeste.es/actividades/mindfulness-42/
LOCATION:Invernadero de Arganzuela\, Punto de encuentro: Puerta principal del Invernadero (Palacio de Cristal de la Arganzuela\, Paseo de la Chopera 6-10)\, Madrid\, 28045
CATEGORIES:Para adultos
ATTACH;FMTTYPE=image/png:https://parquessingularesoeste.es/wp-content/uploads/2024/04/3-3.png
ORGANIZER;CN="Centro de Interpretaci%C3%B3n de Madrid R%C3%ADo":MAILTO:info@parquessingularesoeste.es
END:VEVENT
BEGIN:VEVENT
DTSTART;TZID=Europe/Madrid:20250225T163000
DTEND;TZID=Europe/Madrid:20250225T180000
DTSTAMP:20260421T021818
CREATED:20250109T105016Z
LAST-MODIFIED:20250213T145002Z
UID:7414-1740501000-1740506400@parquessingularesoeste.es
SUMMARY:Visita Guiada Parque de Madrid Río
DESCRIPTION:
URL:https://parquessingularesoeste.es/actividades/visita-guiada-parque-de-madrid-rio-4/
LOCATION:Invernadero de Arganzuela\, Punto de encuentro: Puerta principal del Invernadero (Palacio de Cristal de la Arganzuela\, Paseo de la Chopera 6-10)\, Madrid\, 28045
CATEGORIES:Para adultos
ATTACH;FMTTYPE=image/png:https://parquessingularesoeste.es/wp-content/uploads/2024/12/SENDA-CENTRO-INTERPRETACIONMADRID-RIO-ADULTOS-7.png
ORGANIZER;CN="Centro de Interpretaci%C3%B3n de Madrid R%C3%ADo":MAILTO:info@parquessingularesoeste.es
END:VEVENT
BEGIN:VEVENT
DTSTART;TZID=Europe/Madrid:20250223T120000
DTEND;TZID=Europe/Madrid:20250223T133000
DTSTAMP:20260421T021818
CREATED:20250109T103859Z
LAST-MODIFIED:20250109T103859Z
UID:7405-1740312000-1740317400@parquessingularesoeste.es
SUMMARY:Geochaching
DESCRIPTION:
URL:https://parquessingularesoeste.es/actividades/geochaching/
LOCATION:Invernadero de Arganzuela\, Punto de encuentro: Puerta principal del Invernadero (Palacio de Cristal de la Arganzuela\, Paseo de la Chopera 6-10)\, Madrid\, 28045
CATEGORIES:Para niños de entre 6 y 12 años
ATTACH;FMTTYPE=image/png:https://parquessingularesoeste.es/wp-content/uploads/2025/01/Beige-Minimal-Info-About-Us-Instagram-Post-1-e1736419096747.png
ORGANIZER;CN="Centro de Interpretaci%C3%B3n de Madrid R%C3%ADo":MAILTO:info@parquessingularesoeste.es
END:VEVENT
BEGIN:VEVENT
DTSTART;TZID=Europe/Madrid:20250222T120000
DTEND;TZID=Europe/Madrid:20250222T130000
DTSTAMP:20260421T021818
CREATED:20250109T111259Z
LAST-MODIFIED:20250109T111259Z
UID:7430-1740225600-1740229200@parquessingularesoeste.es
SUMMARY:El invernadero de Arganzuela en flor
DESCRIPTION:
URL:https://parquessingularesoeste.es/actividades/el-invernadero-de-arganzuela-en-flor/
LOCATION:Invernadero de Arganzuela\, Punto de encuentro: Puerta principal del Invernadero (Palacio de Cristal de la Arganzuela\, Paseo de la Chopera 6-10)\, Madrid\, 28045
CATEGORIES:Para adultos
ATTACH;FMTTYPE=image/png:https://parquessingularesoeste.es/wp-content/uploads/2025/01/SENDA-CENTRO-INTERPRETACIONMADRID-RIO-ADULTOS-11.png
ORGANIZER;CN="Centro de Interpretaci%C3%B3n de Madrid R%C3%ADo":MAILTO:info@parquessingularesoeste.es
END:VEVENT
BEGIN:VEVENT
DTSTART;TZID=Europe/Madrid:20250221T123000
DTEND;TZID=Europe/Madrid:20250221T133000
DTSTAMP:20260421T021818
CREATED:20250109T112523Z
LAST-MODIFIED:20250109T112524Z
UID:7446-1740141000-1740144600@parquessingularesoeste.es
SUMMARY:Composiciones Botánicas
DESCRIPTION:
URL:https://parquessingularesoeste.es/actividades/composiciones-botanicas-3/
LOCATION:Invernadero de Arganzuela\, Punto de encuentro: Puerta principal del Invernadero (Palacio de Cristal de la Arganzuela\, Paseo de la Chopera 6-10)\, Madrid\, 28045
CATEGORIES:Para adultos
ATTACH;FMTTYPE=image/png:https://parquessingularesoeste.es/wp-content/uploads/2025/01/SENDA-CENTRO-INTERPRETACIONMADRID-RIO-ADULTOS-12.png
ORGANIZER;CN="Centro de Interpretaci%C3%B3n de Madrid R%C3%ADo":MAILTO:info@parquessingularesoeste.es
END:VEVENT
BEGIN:VEVENT
DTSTART;TZID=Europe/Madrid:20250220T123000
DTEND;TZID=Europe/Madrid:20250220T133000
DTSTAMP:20260421T021818
CREATED:20250114T101720Z
LAST-MODIFIED:20250214T115325Z
UID:7455-1740054600-1740058200@parquessingularesoeste.es
SUMMARY:Visita guiada Invernadero de Arganzuela
DESCRIPTION:
URL:https://parquessingularesoeste.es/actividades/visita-guiada-invernadero-de-arganzuela-5/
LOCATION:Invernadero de Arganzuela\, Punto de encuentro: Puerta principal del Invernadero (Palacio de Cristal de la Arganzuela\, Paseo de la Chopera 6-10)\, Madrid\, 28045
CATEGORIES:Para adultos
ATTACH;FMTTYPE=image/png:https://parquessingularesoeste.es/wp-content/uploads/2025/01/SENDA-CENTRO-INTERPRETACIONMADRID-RIO-ADULTOS-9.png
ORGANIZER;CN="Centro de Interpretaci%C3%B3n de Madrid R%C3%ADo":MAILTO:info@parquessingularesoeste.es
END:VEVENT
BEGIN:VEVENT
DTSTART;TZID=Europe/Madrid:20250219T123000
DTEND;TZID=Europe/Madrid:20250219T133000
DTSTAMP:20260421T021818
CREATED:20250109T111726Z
LAST-MODIFIED:20250109T111726Z
UID:7437-1739968200-1739971800@parquessingularesoeste.es
SUMMARY:Mindfulness
DESCRIPTION:
URL:https://parquessingularesoeste.es/actividades/mindfulness-41/
LOCATION:Invernadero de Arganzuela\, Punto de encuentro: Puerta principal del Invernadero (Palacio de Cristal de la Arganzuela\, Paseo de la Chopera 6-10)\, Madrid\, 28045
CATEGORIES:Para adultos
ATTACH;FMTTYPE=image/png:https://parquessingularesoeste.es/wp-content/uploads/2024/04/3-3.png
ORGANIZER;CN="Centro de Interpretaci%C3%B3n de Madrid R%C3%ADo":MAILTO:info@parquessingularesoeste.es
END:VEVENT
BEGIN:VEVENT
DTSTART;TZID=Europe/Madrid:20250218T163000
DTEND;TZID=Europe/Madrid:20250218T180000
DTSTAMP:20260421T021818
CREATED:20250109T105328Z
LAST-MODIFIED:20250109T105328Z
UID:7418-1739896200-1739901600@parquessingularesoeste.es
SUMMARY:Visita Guiada Centro (Pza. Oriente\, J. Sabatini\, Pza. España)
DESCRIPTION:
URL:https://parquessingularesoeste.es/actividades/visita-guiada-centro-pza-oriente-j-sabatini-pza-espana-3/
LOCATION:Estatua ecuestre de Felipe IV\, Punto de encuentro: la estatua ecuestre de Felipe IV\, o fuente de Felipe IV\, conjunto escultórico ubicado en el centro de la plaza de Oriente.
CATEGORIES:Para adultos
ATTACH;FMTTYPE=image/png:https://parquessingularesoeste.es/wp-content/uploads/2024/12/Beige-Minimal-Info-About-Us-Instagram-Post-e1735979348889.png
ORGANIZER;CN="Centro de Interpretaci%C3%B3n de Madrid R%C3%ADo":MAILTO:info@parquessingularesoeste.es
END:VEVENT
BEGIN:VEVENT
DTSTART;TZID=Europe/Madrid:20250216T120000
DTEND;TZID=Europe/Madrid:20250216T130000
DTSTAMP:20260421T021818
CREATED:20250109T110756Z
LAST-MODIFIED:20250109T110857Z
UID:7427-1739707200-1739710800@parquessingularesoeste.es
SUMMARY:Plantas Comestibles
DESCRIPTION:
URL:https://parquessingularesoeste.es/actividades/plantas-comestibles/
LOCATION:Invernadero de Arganzuela\, Punto de encuentro: Puerta principal del Invernadero (Palacio de Cristal de la Arganzuela\, Paseo de la Chopera 6-10)\, Madrid\, 28045
CATEGORIES:Para adultos
ATTACH;FMTTYPE=image/png:https://parquessingularesoeste.es/wp-content/uploads/2025/01/SENDA-CENTRO-INTERPRETACIONMADRID-RIO-ADULTOS-10.png
ORGANIZER;CN="Centro de Interpretaci%C3%B3n de Madrid R%C3%ADo":MAILTO:info@parquessingularesoeste.es
END:VEVENT
BEGIN:VEVENT
DTSTART;TZID=Europe/Madrid:20250215T120000
DTEND;TZID=Europe/Madrid:20250215T130000
DTSTAMP:20260421T021818
CREATED:20250109T103404Z
LAST-MODIFIED:20250109T103404Z
UID:7403-1739620800-1739624400@parquessingularesoeste.es
SUMMARY:Cuentacuentos
DESCRIPTION:
URL:https://parquessingularesoeste.es/actividades/cuentacuentos-2/
LOCATION:Invernadero de Arganzuela\, Punto de encuentro: Puerta principal del Invernadero (Palacio de Cristal de la Arganzuela\, Paseo de la Chopera 6-10)\, Madrid\, 28045
CATEGORIES:Para niños de entre 6 y 12 años
ATTACH;FMTTYPE=image/png:https://parquessingularesoeste.es/wp-content/uploads/2024/12/SENDA-CENTRO-INTERPRETACIONMADRID-RIO-ADULTOS-3.png
ORGANIZER;CN="Centro de Interpretaci%C3%B3n de Madrid R%C3%ADo":MAILTO:info@parquessingularesoeste.es
END:VEVENT
BEGIN:VEVENT
DTSTART;TZID=Europe/Madrid:20250214T123000
DTEND;TZID=Europe/Madrid:20250214T133000
DTSTAMP:20260421T021818
CREATED:20250109T112428Z
LAST-MODIFIED:20250109T112428Z
UID:7444-1739536200-1739539800@parquessingularesoeste.es
SUMMARY:Composiciones Botánicas
DESCRIPTION:
URL:https://parquessingularesoeste.es/actividades/composiciones-botanicas-2/
LOCATION:Invernadero de Arganzuela\, Punto de encuentro: Puerta principal del Invernadero (Palacio de Cristal de la Arganzuela\, Paseo de la Chopera 6-10)\, Madrid\, 28045
CATEGORIES:Para adultos
ATTACH;FMTTYPE=image/png:https://parquessingularesoeste.es/wp-content/uploads/2025/01/SENDA-CENTRO-INTERPRETACIONMADRID-RIO-ADULTOS-12.png
ORGANIZER;CN="Centro de Interpretaci%C3%B3n de Madrid R%C3%ADo":MAILTO:info@parquessingularesoeste.es
END:VEVENT
BEGIN:VEVENT
DTSTART;TZID=Europe/Madrid:20250213T123000
DTEND;TZID=Europe/Madrid:20250213T140000
DTSTAMP:20260421T021818
CREATED:20250109T105206Z
LAST-MODIFIED:20250109T105206Z
UID:7416-1739449800-1739455200@parquessingularesoeste.es
SUMMARY:Visita Guiada Centro (Pza. Oriente\, J. Sabatini\, Pza. España)
DESCRIPTION:
URL:https://parquessingularesoeste.es/actividades/visita-guiada-centro-pza-oriente-j-sabatini-pza-espana-2/
LOCATION:Estatua ecuestre de Felipe IV\, Punto de encuentro: la estatua ecuestre de Felipe IV\, o fuente de Felipe IV\, conjunto escultórico ubicado en el centro de la plaza de Oriente.
CATEGORIES:Para adultos
ATTACH;FMTTYPE=image/png:https://parquessingularesoeste.es/wp-content/uploads/2024/12/Beige-Minimal-Info-About-Us-Instagram-Post-e1735979348889.png
ORGANIZER;CN="Centro de Interpretaci%C3%B3n de Madrid R%C3%ADo":MAILTO:info@parquessingularesoeste.es
END:VEVENT
BEGIN:VEVENT
DTSTART;TZID=Europe/Madrid:20250212T123000
DTEND;TZID=Europe/Madrid:20250212T133000
DTSTAMP:20260421T021818
CREATED:20250109T111609Z
LAST-MODIFIED:20250109T111609Z
UID:7435-1739363400-1739367000@parquessingularesoeste.es
SUMMARY:Mindfulness
DESCRIPTION:
URL:https://parquessingularesoeste.es/actividades/mindfulness-40/
LOCATION:Invernadero de Arganzuela\, Punto de encuentro: Puerta principal del Invernadero (Palacio de Cristal de la Arganzuela\, Paseo de la Chopera 6-10)\, Madrid\, 28045
CATEGORIES:Para adultos
ATTACH;FMTTYPE=image/png:https://parquessingularesoeste.es/wp-content/uploads/2024/04/3-3.png
ORGANIZER;CN="Centro de Interpretaci%C3%B3n de Madrid R%C3%ADo":MAILTO:info@parquessingularesoeste.es
END:VEVENT
BEGIN:VEVENT
DTSTART;TZID=Europe/Madrid:20250211T163000
DTEND;TZID=Europe/Madrid:20250211T180000
DTSTAMP:20260421T021818
CREATED:20250109T105459Z
LAST-MODIFIED:20250109T105459Z
UID:7420-1739291400-1739296800@parquessingularesoeste.es
SUMMARY:Visita Guiada Parque Lineal del Manzanares
DESCRIPTION:
URL:https://parquessingularesoeste.es/actividades/visita-guiada-parque-lineal-del-manzanares-3/
LOCATION:Entrada Parque Lineal Manzanares\, Punto de encuentro: Plaza Verde. Auditorio del Parque Lineal del Manzanares. Entrando al parque por la calle Camino de Perales\, 48.\, Madrid\, 28041
CATEGORIES:Para adultos
ATTACH;FMTTYPE=image/png:https://parquessingularesoeste.es/wp-content/uploads/2024/08/Beige-Minimal-Info-About-Us-Instagram-Post-5-e1727280011589.png
ORGANIZER;CN="Centro de Interpretaci%C3%B3n de Madrid R%C3%ADo":MAILTO:info@parquessingularesoeste.es
END:VEVENT
BEGIN:VEVENT
DTSTART;TZID=Europe/Madrid:20250209T120000
DTEND;TZID=Europe/Madrid:20250209T130000
DTSTAMP:20260421T021818
CREATED:20250109T102721Z
LAST-MODIFIED:20250109T103058Z
UID:7395-1739102400-1739106000@parquessingularesoeste.es
SUMMARY:Búsqueda del Tesoro en el Palacio de Cristal de la Arganzuela
DESCRIPTION:
URL:https://parquessingularesoeste.es/actividades/teatro-ambiental-2/
LOCATION:Invernadero de Arganzuela\, Punto de encuentro: Puerta principal del Invernadero (Palacio de Cristal de la Arganzuela\, Paseo de la Chopera 6-10)\, Madrid\, 28045
CATEGORIES:Para niños de entre 6 y 12 años
ATTACH;FMTTYPE=image/png:https://parquessingularesoeste.es/wp-content/uploads/2024/05/Beige-Minimal-Info-About-Us-Instagram-Post-2-e1715892463743.png
ORGANIZER;CN="Centro de Interpretaci%C3%B3n de Madrid R%C3%ADo":MAILTO:info@parquessingularesoeste.es
END:VEVENT
BEGIN:VEVENT
DTSTART;TZID=Europe/Madrid:20250208T120000
DTEND;TZID=Europe/Madrid:20250208T130000
DTSTAMP:20260421T021818
CREATED:20250109T110356Z
LAST-MODIFIED:20250109T110356Z
UID:7424-1739016000-1739019600@parquessingularesoeste.es
SUMMARY:Plantas Medicinales
DESCRIPTION:
URL:https://parquessingularesoeste.es/actividades/plantas-medicinales-2/
LOCATION:Invernadero de Arganzuela\, Punto de encuentro: Puerta principal del Invernadero (Palacio de Cristal de la Arganzuela\, Paseo de la Chopera 6-10)\, Madrid\, 28045
CATEGORIES:Para adultos
ATTACH;FMTTYPE=image/png:https://parquessingularesoeste.es/wp-content/uploads/2024/12/SENDA-CENTRO-INTERPRETACIONMADRID-RIO-ADULTOS-4.png
ORGANIZER;CN="Centro de Interpretaci%C3%B3n de Madrid R%C3%ADo":MAILTO:info@parquessingularesoeste.es
END:VEVENT
BEGIN:VEVENT
DTSTART;TZID=Europe/Madrid:20250207T123000
DTEND;TZID=Europe/Madrid:20250207T133000
DTSTAMP:20260421T021818
CREATED:20250109T112302Z
LAST-MODIFIED:20250109T112302Z
UID:7441-1738931400-1738935000@parquessingularesoeste.es
SUMMARY:Composiciones Botánicas
DESCRIPTION:
URL:https://parquessingularesoeste.es/actividades/composiciones-botanicas/
LOCATION:Invernadero de Arganzuela\, Punto de encuentro: Puerta principal del Invernadero (Palacio de Cristal de la Arganzuela\, Paseo de la Chopera 6-10)\, Madrid\, 28045
CATEGORIES:Para adultos
ATTACH;FMTTYPE=image/png:https://parquessingularesoeste.es/wp-content/uploads/2025/01/SENDA-CENTRO-INTERPRETACIONMADRID-RIO-ADULTOS-12.png
ORGANIZER;CN="Centro de Interpretaci%C3%B3n de Madrid R%C3%ADo":MAILTO:info@parquessingularesoeste.es
END:VEVENT
BEGIN:VEVENT
DTSTART;TZID=Europe/Madrid:20250206T123000
DTEND;TZID=Europe/Madrid:20250206T140000
DTSTAMP:20260421T021818
CREATED:20250109T104826Z
LAST-MODIFIED:20250109T104826Z
UID:7412-1738845000-1738850400@parquessingularesoeste.es
SUMMARY:Visita Guiada Parque de Madrid Río
DESCRIPTION:
URL:https://parquessingularesoeste.es/actividades/visita-guiada-parque-de-madrid-rio-3/
LOCATION:Invernadero de Arganzuela\, Punto de encuentro: Puerta principal del Invernadero (Palacio de Cristal de la Arganzuela\, Paseo de la Chopera 6-10)\, Madrid\, 28045
CATEGORIES:Para adultos
ATTACH;FMTTYPE=image/png:https://parquessingularesoeste.es/wp-content/uploads/2024/12/SENDA-CENTRO-INTERPRETACIONMADRID-RIO-ADULTOS-7.png
ORGANIZER;CN="Centro de Interpretaci%C3%B3n de Madrid R%C3%ADo":MAILTO:info@parquessingularesoeste.es
END:VEVENT
BEGIN:VEVENT
DTSTART;TZID=Europe/Madrid:20250205T123000
DTEND;TZID=Europe/Madrid:20250205T133000
DTSTAMP:20260421T021818
CREATED:20250109T111447Z
LAST-MODIFIED:20250109T111447Z
UID:7433-1738758600-1738762200@parquessingularesoeste.es
SUMMARY:Mindfulness
DESCRIPTION:
URL:https://parquessingularesoeste.es/actividades/mindfulness-35/
LOCATION:Invernadero de Arganzuela\, Punto de encuentro: Puerta principal del Invernadero (Palacio de Cristal de la Arganzuela\, Paseo de la Chopera 6-10)\, Madrid\, 28045
CATEGORIES:Para adultos
ATTACH;FMTTYPE=image/png:https://parquessingularesoeste.es/wp-content/uploads/2024/04/3-3.png
ORGANIZER;CN="Centro de Interpretaci%C3%B3n de Madrid R%C3%ADo":MAILTO:info@parquessingularesoeste.es
END:VEVENT
BEGIN:VEVENT
DTSTART;TZID=Europe/Madrid:20250202T120000
DTEND;TZID=Europe/Madrid:20250202T130000
DTSTAMP:20260421T021818
CREATED:20250109T104632Z
LAST-MODIFIED:20250109T120453Z
UID:7408-1738497600-1738501200@parquessingularesoeste.es
SUMMARY:Visita guiada Invernadero de Arganzuela
DESCRIPTION:
URL:https://parquessingularesoeste.es/actividades/visita-guiada-invernadero-de-arganzuela-4/
LOCATION:Invernadero de Arganzuela\, Punto de encuentro: Puerta principal del Invernadero (Palacio de Cristal de la Arganzuela\, Paseo de la Chopera 6-10)\, Madrid\, 28045
CATEGORIES:Para adultos
ATTACH;FMTTYPE=image/png:https://parquessingularesoeste.es/wp-content/uploads/2025/01/SENDA-CENTRO-INTERPRETACIONMADRID-RIO-ADULTOS-9.png
ORGANIZER;CN="Centro de Interpretaci%C3%B3n de Madrid R%C3%ADo":MAILTO:info@parquessingularesoeste.es
END:VEVENT
BEGIN:VEVENT
DTSTART;TZID=Europe/Madrid:20250201T120000
DTEND;TZID=Europe/Madrid:20250201T130000
DTSTAMP:20260421T021818
CREATED:20250109T103229Z
LAST-MODIFIED:20250109T103229Z
UID:7401-1738411200-1738414800@parquessingularesoeste.es
SUMMARY:Teatro ambiental
DESCRIPTION:
URL:https://parquessingularesoeste.es/actividades/teatro-ambiental-3/
LOCATION:Invernadero de Arganzuela\, Punto de encuentro: Puerta principal del Invernadero (Palacio de Cristal de la Arganzuela\, Paseo de la Chopera 6-10)\, Madrid\, 28045
CATEGORIES:Para niños de entre 6 y 12 años
ATTACH;FMTTYPE=image/png:https://parquessingularesoeste.es/wp-content/uploads/2024/12/SENDA-CENTRO-INTERPRETACIONMADRID-RIO-ADULTOS.png
ORGANIZER;CN="Centro de Interpretaci%C3%B3n de Madrid R%C3%ADo":MAILTO:info@parquessingularesoeste.es
END:VEVENT
BEGIN:VEVENT
DTSTART;TZID=Europe/Madrid:20250131T123000
DTEND;TZID=Europe/Madrid:20250131T133000
DTSTAMP:20260421T021818
CREATED:20241204T112234Z
LAST-MODIFIED:20250103T131751Z
UID:7231-1738326600-1738330200@parquessingularesoeste.es
SUMMARY:Talleres Creativos: Cerámica con Estampado Floral
DESCRIPTION:
URL:https://parquessingularesoeste.es/actividades/talleres-creativos-ceramica-con-estampado-floral-5/
LOCATION:Invernadero de Arganzuela\, Punto de encuentro: Puerta principal del Invernadero (Palacio de Cristal de la Arganzuela\, Paseo de la Chopera 6-10)\, Madrid\, 28045
CATEGORIES:Para adultos
ATTACH;FMTTYPE=image/png:https://parquessingularesoeste.es/wp-content/uploads/2024/10/SENDA-CENTRO-INTERPRETACIONMADRID-RIO-ADULTOS-2.png
ORGANIZER;CN="Centro de Interpretaci%C3%B3n de Madrid R%C3%ADo":MAILTO:info@parquessingularesoeste.es
END:VEVENT
BEGIN:VEVENT
DTSTART;TZID=Europe/Madrid:20250130T123000
DTEND;TZID=Europe/Madrid:20250130T140000
DTSTAMP:20260421T021818
CREATED:20241204T120820Z
LAST-MODIFIED:20250103T131724Z
UID:7248-1738240200-1738245600@parquessingularesoeste.es
SUMMARY:Visita Guiada Parque Lineal del Manzanares
DESCRIPTION:
URL:https://parquessingularesoeste.es/actividades/visita-guiada-parque-lineal-del-manzanares-2/
LOCATION:Entrada Parque Lineal Manzanares\, Punto de encuentro: Plaza Verde. Auditorio del Parque Lineal del Manzanares. Entrando al parque por la calle Camino de Perales\, 48.\, Madrid\, 28041
CATEGORIES:Para adultos
ATTACH;FMTTYPE=image/png:https://parquessingularesoeste.es/wp-content/uploads/2024/08/Beige-Minimal-Info-About-Us-Instagram-Post-5-e1727280011589.png
ORGANIZER;CN="Centro de Interpretaci%C3%B3n de Madrid R%C3%ADo":MAILTO:info@parquessingularesoeste.es
END:VEVENT
BEGIN:VEVENT
DTSTART;TZID=Europe/Madrid:20250129T123000
DTEND;TZID=Europe/Madrid:20250129T133000
DTSTAMP:20260421T021818
CREATED:20241204T111838Z
LAST-MODIFIED:20250103T131652Z
UID:7225-1738153800-1738157400@parquessingularesoeste.es
SUMMARY:Mindfulness
DESCRIPTION:
URL:https://parquessingularesoeste.es/actividades/mindfulness-39/
LOCATION:Invernadero de Arganzuela\, Punto de encuentro: Puerta principal del Invernadero (Palacio de Cristal de la Arganzuela\, Paseo de la Chopera 6-10)\, Madrid\, 28045
CATEGORIES:Para adultos
ATTACH;FMTTYPE=image/png:https://parquessingularesoeste.es/wp-content/uploads/2024/04/3-3.png
ORGANIZER;CN="Centro de Interpretaci%C3%B3n de Madrid R%C3%ADo":MAILTO:info@parquessingularesoeste.es
END:VEVENT
BEGIN:VEVENT
DTSTART;TZID=Europe/Madrid:20250128T163000
DTEND;TZID=Europe/Madrid:20250128T180000
DTSTAMP:20260421T021818
CREATED:20241204T120605Z
LAST-MODIFIED:20250109T101946Z
UID:7246-1738081800-1738087200@parquessingularesoeste.es
SUMMARY:Visita Guiada Parque de Madrid Río
DESCRIPTION:
URL:https://parquessingularesoeste.es/actividades/visita-guiada-parque-de-madrid-rio-2/
LOCATION:Invernadero de Arganzuela\, Punto de encuentro: Puerta principal del Invernadero (Palacio de Cristal de la Arganzuela\, Paseo de la Chopera 6-10)\, Madrid\, 28045
CATEGORIES:Para adultos
ATTACH;FMTTYPE=image/png:https://parquessingularesoeste.es/wp-content/uploads/2024/12/SENDA-CENTRO-INTERPRETACIONMADRID-RIO-ADULTOS-7.png
ORGANIZER;CN="Centro de Interpretaci%C3%B3n de Madrid R%C3%ADo":MAILTO:info@parquessingularesoeste.es
END:VEVENT
BEGIN:VEVENT
DTSTART;TZID=Europe/Madrid:20250126T120000
DTEND;TZID=Europe/Madrid:20250126T130000
DTSTAMP:20260421T021818
CREATED:20241204T110557Z
LAST-MODIFIED:20250103T131557Z
UID:7208-1737892800-1737896400@parquessingularesoeste.es
SUMMARY:Búsqueda del Tesoro en el Palacio de Cristal de la Arganzuela
DESCRIPTION:
URL:https://parquessingularesoeste.es/actividades/busqueda-del-tesoro-en-el-palacio-de-cristal-de-la-arganzuela-7/
LOCATION:Invernadero de Arganzuela\, Punto de encuentro: Puerta principal del Invernadero (Palacio de Cristal de la Arganzuela\, Paseo de la Chopera 6-10)\, Madrid\, 28045
CATEGORIES:Para niños de entre 6 y 12 años
ATTACH;FMTTYPE=image/png:https://parquessingularesoeste.es/wp-content/uploads/2024/05/Beige-Minimal-Info-About-Us-Instagram-Post-2-e1715892463743.png
ORGANIZER;CN="Centro de Interpretaci%C3%B3n de Madrid R%C3%ADo":MAILTO:info@parquessingularesoeste.es
END:VEVENT
BEGIN:VEVENT
DTSTART;TZID=Europe/Madrid:20250125T120000
DTEND;TZID=Europe/Madrid:20250125T130000
DTSTAMP:20260421T021818
CREATED:20241204T114517Z
LAST-MODIFIED:20250109T114357Z
UID:7234-1737806400-1737810000@parquessingularesoeste.es
SUMMARY:Visita Guiada Invernadero de Arganzuela
DESCRIPTION:
URL:https://parquessingularesoeste.es/actividades/visita-guiada-invernadero-de-arganzuela-2/
LOCATION:Invernadero de Arganzuela\, Punto de encuentro: Puerta principal del Invernadero (Palacio de Cristal de la Arganzuela\, Paseo de la Chopera 6-10)\, Madrid\, 28045
CATEGORIES:Para adultos
ATTACH;FMTTYPE=image/png:https://parquessingularesoeste.es/wp-content/uploads/2025/01/SENDA-CENTRO-INTERPRETACIONMADRID-RIO-ADULTOS-9.png
ORGANIZER;CN="Centro de Interpretaci%C3%B3n de Madrid R%C3%ADo":MAILTO:info@parquessingularesoeste.es
END:VEVENT
BEGIN:VEVENT
DTSTART;TZID=Europe/Madrid:20250124T123000
DTEND;TZID=Europe/Madrid:20250124T133000
DTSTAMP:20260421T021818
CREATED:20241204T112142Z
LAST-MODIFIED:20250103T131452Z
UID:7229-1737721800-1737725400@parquessingularesoeste.es
SUMMARY:Talleres Creativos: Cerámica con Estampado Floral
DESCRIPTION:
URL:https://parquessingularesoeste.es/actividades/talleres-creativos-ceramica-con-estampado-floral-4/
LOCATION:Invernadero de Arganzuela\, Punto de encuentro: Puerta principal del Invernadero (Palacio de Cristal de la Arganzuela\, Paseo de la Chopera 6-10)\, Madrid\, 28045
CATEGORIES:Para adultos
ATTACH;FMTTYPE=image/png:https://parquessingularesoeste.es/wp-content/uploads/2024/10/SENDA-CENTRO-INTERPRETACIONMADRID-RIO-ADULTOS-2.png
ORGANIZER;CN="Centro de Interpretaci%C3%B3n de Madrid R%C3%ADo":MAILTO:info@parquessingularesoeste.es
END:VEVENT
END:VCALENDAR