BEGIN:VCALENDAR
VERSION:2.0
PRODID:-//Parques Singulares Oeste - ECPv6.15.20//NONSGML v1.0//EN
CALSCALE:GREGORIAN
METHOD:PUBLISH
X-WR-CALNAME:Parques Singulares Oeste
X-ORIGINAL-URL:https://parquessingularesoeste.es
X-WR-CALDESC:Eventos para Parques Singulares Oeste
REFRESH-INTERVAL;VALUE=DURATION:PT1H
X-Robots-Tag:noindex
X-PUBLISHED-TTL:PT1H
BEGIN:VTIMEZONE
TZID:Europe/Madrid
BEGIN:DAYLIGHT
TZOFFSETFROM:+0100
TZOFFSETTO:+0200
TZNAME:CEST
DTSTART:20240331T010000
END:DAYLIGHT
BEGIN:STANDARD
TZOFFSETFROM:+0200
TZOFFSETTO:+0100
TZNAME:CET
DTSTART:20241027T010000
END:STANDARD
BEGIN:DAYLIGHT
TZOFFSETFROM:+0100
TZOFFSETTO:+0200
TZNAME:CEST
DTSTART:20250330T010000
END:DAYLIGHT
BEGIN:STANDARD
TZOFFSETFROM:+0200
TZOFFSETTO:+0100
TZNAME:CET
DTSTART:20251026T010000
END:STANDARD
BEGIN:DAYLIGHT
TZOFFSETFROM:+0100
TZOFFSETTO:+0200
TZNAME:CEST
DTSTART:20260329T010000
END:DAYLIGHT
BEGIN:STANDARD
TZOFFSETFROM:+0200
TZOFFSETTO:+0100
TZNAME:CET
DTSTART:20261025T010000
END:STANDARD
END:VTIMEZONE
BEGIN:VEVENT
DTSTART;TZID=Europe/Madrid:20250509T123000
DTEND;TZID=Europe/Madrid:20250509T133000
DTSTAMP:20260424T221605
CREATED:20250414T110126Z
LAST-MODIFIED:20250414T110126Z
UID:7675-1746793800-1746797400@parquessingularesoeste.es
SUMMARY:Talleres Creativos: Macetero papel reciclado
DESCRIPTION:Crea tus propias macetas con papel reciclado. \nPara ofrecer una experiencia completa\, hemos dividido el taller en dos grupos que irán dos viernes al taller: \nGrupo 1: Viernes 9 y 16 de mayo \nGrupo 2: Viernes 23 y 39 de mayo \n⏰ De 12:30 a 13:30 \n  \nActividad Gratuita
URL:https://parquessingularesoeste.es/actividades/talleres-creativos-macetero-papel-reciclado/
LOCATION:Espacio Madrid Calle 30 / Madrid Río – Centro de Interpretación de Madrid Río\, Paseo de la Chopera 6-10\, Arganzuela\, Madrid\, 28045\, Spain
CATEGORIES:Para adultos
ATTACH;FMTTYPE=image/png:https://parquessingularesoeste.es/wp-content/uploads/2024/10/SENDA-CENTRO-INTERPRETACIONMADRID-RIO-ADULTOS-2.png
ORGANIZER;CN="Centro de Interpretaci%C3%B3n de Madrid R%C3%ADo":MAILTO:info@parquessingularesoeste.es
END:VEVENT
END:VCALENDAR