BEGIN:VCALENDAR
VERSION:2.0
PRODID:-//Parques Singulares Oeste - ECPv6.15.20//NONSGML v1.0//EN
CALSCALE:GREGORIAN
METHOD:PUBLISH
X-WR-CALNAME:Parques Singulares Oeste
X-ORIGINAL-URL:https://parquessingularesoeste.es
X-WR-CALDESC:Eventos para Parques Singulares Oeste
REFRESH-INTERVAL;VALUE=DURATION:PT1H
X-Robots-Tag:noindex
X-PUBLISHED-TTL:PT1H
BEGIN:VTIMEZONE
TZID:Europe/Madrid
BEGIN:DAYLIGHT
TZOFFSETFROM:+0100
TZOFFSETTO:+0200
TZNAME:CEST
DTSTART:20240331T010000
END:DAYLIGHT
BEGIN:STANDARD
TZOFFSETFROM:+0200
TZOFFSETTO:+0100
TZNAME:CET
DTSTART:20241027T010000
END:STANDARD
BEGIN:DAYLIGHT
TZOFFSETFROM:+0100
TZOFFSETTO:+0200
TZNAME:CEST
DTSTART:20250330T010000
END:DAYLIGHT
BEGIN:STANDARD
TZOFFSETFROM:+0200
TZOFFSETTO:+0100
TZNAME:CET
DTSTART:20251026T010000
END:STANDARD
BEGIN:DAYLIGHT
TZOFFSETFROM:+0100
TZOFFSETTO:+0200
TZNAME:CEST
DTSTART:20260329T010000
END:DAYLIGHT
BEGIN:STANDARD
TZOFFSETFROM:+0200
TZOFFSETTO:+0100
TZNAME:CET
DTSTART:20261025T010000
END:STANDARD
END:VTIMEZONE
BEGIN:VEVENT
DTSTART;TZID=Europe/Madrid:20250423T123000
DTEND;TZID=Europe/Madrid:20250423T133000
DTSTAMP:20260424T204825
CREATED:20250316T124112Z
LAST-MODIFIED:20250423T105953Z
UID:7594-1745411400-1745415000@parquessingularesoeste.es
SUMMARY:Mindfulness
DESCRIPTION:Tómate un respiro y conéctate con el entorno en nuestras sesiones de mindfulness. 🌞\n💆‍♂️ A través de la respiración\, la observación y la atención plena\, aprenderemos a relajarnos y a disfrutar del momento presente rodeados de naturaleza. 🌳🍂 \nActividad Gratuita \nInscripciones \n📩 Puedes reservar tu plaza escribiéndonos a info@parquessingularesoeste.es o llamando al 657 664 813 / 657 664 829.Por favor\, indícanos: \n✅ El nombre de la actividad y la fecha en la que deseas participar✅ Nombre completo y edad de cada participante✅ Un teléfono de contacto para confirmación \nMás info aquí \n 
URL:https://parquessingularesoeste.es/actividades/mindfulness-50/
LOCATION:Invernadero de Arganzuela\, Punto de encuentro: Puerta principal del Invernadero (Palacio de Cristal de la Arganzuela\, Paseo de la Chopera 6-10)\, Madrid\, 28045
CATEGORIES:Para adultos
ATTACH;FMTTYPE=image/png:https://parquessingularesoeste.es/wp-content/uploads/2024/04/3-3.png
END:VEVENT
END:VCALENDAR