BEGIN:VCALENDAR
VERSION:2.0
PRODID:-//Parques Singulares Oeste - ECPv6.15.20//NONSGML v1.0//EN
CALSCALE:GREGORIAN
METHOD:PUBLISH
X-ORIGINAL-URL:https://parquessingularesoeste.es
X-WR-CALDESC:Eventos para Parques Singulares Oeste
REFRESH-INTERVAL;VALUE=DURATION:PT1H
X-Robots-Tag:noindex
X-PUBLISHED-TTL:PT1H
BEGIN:VTIMEZONE
TZID:Europe/Madrid
BEGIN:DAYLIGHT
TZOFFSETFROM:+0100
TZOFFSETTO:+0200
TZNAME:CEST
DTSTART:20240331T010000
END:DAYLIGHT
BEGIN:STANDARD
TZOFFSETFROM:+0200
TZOFFSETTO:+0100
TZNAME:CET
DTSTART:20241027T010000
END:STANDARD
BEGIN:DAYLIGHT
TZOFFSETFROM:+0100
TZOFFSETTO:+0200
TZNAME:CEST
DTSTART:20250330T010000
END:DAYLIGHT
BEGIN:STANDARD
TZOFFSETFROM:+0200
TZOFFSETTO:+0100
TZNAME:CET
DTSTART:20251026T010000
END:STANDARD
BEGIN:DAYLIGHT
TZOFFSETFROM:+0100
TZOFFSETTO:+0200
TZNAME:CEST
DTSTART:20260329T010000
END:DAYLIGHT
BEGIN:STANDARD
TZOFFSETFROM:+0200
TZOFFSETTO:+0100
TZNAME:CET
DTSTART:20261025T010000
END:STANDARD
END:VTIMEZONE
BEGIN:VEVENT
DTSTART;TZID=Europe/Madrid:20250325T163000
DTEND;TZID=Europe/Madrid:20250325T180000
DTSTAMP:20260424T192630
CREATED:20250213T152711Z
LAST-MODIFIED:20250318T120448Z
UID:7480-1742920200-1742925600@parquessingularesoeste.es
SUMMARY:Visita Guiada Parque de Madrid Río
DESCRIPTION:Descubre Madrid Río en un recorrido lleno de historia\, naturaleza y sostenibilidad. 🌊\n🌳 Pasearemos por sus puentes icónicos\, jardines y espacios culturales\, mientras conocemos su transformación en un pulmón verde para la ciudad. \n  \nActividad Gratuita
URL:https://parquessingularesoeste.es/actividades/visita-guiada-parque-de-madrid-rio-6/
LOCATION:Invernadero de Arganzuela\, Punto de encuentro: Puerta principal del Invernadero (Palacio de Cristal de la Arganzuela\, Paseo de la Chopera 6-10)\, Madrid\, 28045
CATEGORIES:Para adultos
ATTACH;FMTTYPE=image/png:https://parquessingularesoeste.es/wp-content/uploads/2024/12/SENDA-CENTRO-INTERPRETACIONMADRID-RIO-ADULTOS-7.png
ORGANIZER;CN="Centro de Interpretaci%C3%B3n de Madrid R%C3%ADo":MAILTO:info@parquessingularesoeste.es
END:VEVENT
END:VCALENDAR