BEGIN:VCALENDAR
VERSION:2.0
PRODID:-//Parques Singulares Oeste - ECPv6.15.20//NONSGML v1.0//EN
CALSCALE:GREGORIAN
METHOD:PUBLISH
X-WR-CALNAME:Parques Singulares Oeste
X-ORIGINAL-URL:https://parquessingularesoeste.es
X-WR-CALDESC:Eventos para Parques Singulares Oeste
REFRESH-INTERVAL;VALUE=DURATION:PT1H
X-Robots-Tag:noindex
X-PUBLISHED-TTL:PT1H
BEGIN:VTIMEZONE
TZID:Europe/Madrid
BEGIN:DAYLIGHT
TZOFFSETFROM:+0100
TZOFFSETTO:+0200
TZNAME:CEST
DTSTART:20240331T010000
END:DAYLIGHT
BEGIN:STANDARD
TZOFFSETFROM:+0200
TZOFFSETTO:+0100
TZNAME:CET
DTSTART:20241027T010000
END:STANDARD
BEGIN:DAYLIGHT
TZOFFSETFROM:+0100
TZOFFSETTO:+0200
TZNAME:CEST
DTSTART:20250330T010000
END:DAYLIGHT
BEGIN:STANDARD
TZOFFSETFROM:+0200
TZOFFSETTO:+0100
TZNAME:CET
DTSTART:20251026T010000
END:STANDARD
BEGIN:DAYLIGHT
TZOFFSETFROM:+0100
TZOFFSETTO:+0200
TZNAME:CEST
DTSTART:20260329T010000
END:DAYLIGHT
BEGIN:STANDARD
TZOFFSETFROM:+0200
TZOFFSETTO:+0100
TZNAME:CET
DTSTART:20261025T010000
END:STANDARD
END:VTIMEZONE
BEGIN:VEVENT
DTSTART;TZID=Europe/Madrid:20250322T113000
DTEND;TZID=Europe/Madrid:20250322T130000
DTSTAMP:20260424T192025
CREATED:20250213T163943Z
LAST-MODIFIED:20250318T120347Z
UID:7509-1742643000-1742648400@parquessingularesoeste.es
SUMMARY:Fiesta Primavera (sábados al parque)
DESCRIPTION:🌸🌞 Fiesta llena de diversión\, donde se harán talleres y juegos en grupo para disfrutar del buen tiempo en el parque. Además de celebrar actividades para conocer más sobre la naturaleza\, ¡perfecto para disfrutar en familia! 🎉🌿 \n\n\n\n\nActividad Gratuita
URL:https://parquessingularesoeste.es/actividades/fiesta-primavera-sabados-al-parque/
LOCATION:Invernadero de Arganzuela\, Punto de encuentro: Puerta principal del Invernadero (Palacio de Cristal de la Arganzuela\, Paseo de la Chopera 6-10)\, Madrid\, 28045
CATEGORIES:Familiar
ATTACH;FMTTYPE=image/png:https://parquessingularesoeste.es/wp-content/uploads/2025/02/SENDA-CENTRO-INTERPRETACIONMADRID-RIO-ADULTOS-14.png
ORGANIZER;CN="Centro de Interpretaci%C3%B3n de Madrid R%C3%ADo":MAILTO:info@parquessingularesoeste.es
END:VEVENT
END:VCALENDAR