BEGIN:VCALENDAR
VERSION:2.0
PRODID:-//Parques Singulares Oeste - ECPv6.15.20//NONSGML v1.0//EN
CALSCALE:GREGORIAN
METHOD:PUBLISH
X-WR-CALNAME:Parques Singulares Oeste
X-ORIGINAL-URL:https://parquessingularesoeste.es
X-WR-CALDESC:Eventos para Parques Singulares Oeste
REFRESH-INTERVAL;VALUE=DURATION:PT1H
X-Robots-Tag:noindex
X-PUBLISHED-TTL:PT1H
BEGIN:VTIMEZONE
TZID:Europe/Madrid
BEGIN:DAYLIGHT
TZOFFSETFROM:+0100
TZOFFSETTO:+0200
TZNAME:CEST
DTSTART:20230326T010000
END:DAYLIGHT
BEGIN:STANDARD
TZOFFSETFROM:+0200
TZOFFSETTO:+0100
TZNAME:CET
DTSTART:20231029T010000
END:STANDARD
BEGIN:DAYLIGHT
TZOFFSETFROM:+0100
TZOFFSETTO:+0200
TZNAME:CEST
DTSTART:20240331T010000
END:DAYLIGHT
BEGIN:STANDARD
TZOFFSETFROM:+0200
TZOFFSETTO:+0100
TZNAME:CET
DTSTART:20241027T010000
END:STANDARD
BEGIN:DAYLIGHT
TZOFFSETFROM:+0100
TZOFFSETTO:+0200
TZNAME:CEST
DTSTART:20250330T010000
END:DAYLIGHT
BEGIN:STANDARD
TZOFFSETFROM:+0200
TZOFFSETTO:+0100
TZNAME:CET
DTSTART:20251026T010000
END:STANDARD
END:VTIMEZONE
BEGIN:VEVENT
DTSTART;TZID=Europe/Madrid:20241123T120000
DTEND;TZID=Europe/Madrid:20241123T130000
DTSTAMP:20260424T161117
CREATED:20241016T131559Z
LAST-MODIFIED:20241204T111351Z
UID:7065-1732363200-1732366800@parquessingularesoeste.es
SUMMARY:Senda Centro Pza. Oriente\, Pza. España y Sabatini
DESCRIPTION:Punto de encuentro: la estatua ecuestre de Felipe IV\, o fuente de Felipe IV\, conjunto escultórico ubicado en el centro de la plaza de Oriente.
URL:https://parquessingularesoeste.es/actividades/senda-centro-pza-oriente-pza-espana-y-sabatini-3/
LOCATION:Estatua ecuestre de Felipe IV\, Punto de encuentro: la estatua ecuestre de Felipe IV\, o fuente de Felipe IV\, conjunto escultórico ubicado en el centro de la plaza de Oriente.
ATTACH;FMTTYPE=image/png:https://parquessingularesoeste.es/wp-content/uploads/2024/05/Beige-Minimal-Info-About-Us-Instagram-Post-4.png
END:VEVENT
END:VCALENDAR