BEGIN:VCALENDAR
VERSION:2.0
PRODID:-//Parques Singulares Oeste - ECPv6.15.20//NONSGML v1.0//EN
CALSCALE:GREGORIAN
METHOD:PUBLISH
X-ORIGINAL-URL:https://parquessingularesoeste.es
X-WR-CALDESC:Eventos para Parques Singulares Oeste
REFRESH-INTERVAL;VALUE=DURATION:PT1H
X-Robots-Tag:noindex
X-PUBLISHED-TTL:PT1H
BEGIN:VTIMEZONE
TZID:Europe/Madrid
BEGIN:DAYLIGHT
TZOFFSETFROM:+0100
TZOFFSETTO:+0200
TZNAME:CEST
DTSTART:20230326T010000
END:DAYLIGHT
BEGIN:STANDARD
TZOFFSETFROM:+0200
TZOFFSETTO:+0100
TZNAME:CET
DTSTART:20231029T010000
END:STANDARD
BEGIN:DAYLIGHT
TZOFFSETFROM:+0100
TZOFFSETTO:+0200
TZNAME:CEST
DTSTART:20240331T010000
END:DAYLIGHT
BEGIN:STANDARD
TZOFFSETFROM:+0200
TZOFFSETTO:+0100
TZNAME:CET
DTSTART:20241027T010000
END:STANDARD
BEGIN:DAYLIGHT
TZOFFSETFROM:+0100
TZOFFSETTO:+0200
TZNAME:CEST
DTSTART:20250330T010000
END:DAYLIGHT
BEGIN:STANDARD
TZOFFSETFROM:+0200
TZOFFSETTO:+0100
TZNAME:CET
DTSTART:20251026T010000
END:STANDARD
END:VTIMEZONE
BEGIN:VEVENT
DTSTART;TZID=Europe/Madrid:20241109T120000
DTEND;TZID=Europe/Madrid:20241109T130000
DTSTAMP:20260424T161331
CREATED:20241016T132342Z
LAST-MODIFIED:20241031T112206Z
UID:7069-1731153600-1731157200@parquessingularesoeste.es
SUMMARY:Visita Guiada en el Parque Lineal del Manzanares
DESCRIPTION:Punto de encuentro: Plaza Verde. Auditorio del Parque Lineal del Manzanares. Entrando al parque por Camino de Perales 48. \n \nDuración 1h \n 
URL:https://parquessingularesoeste.es/actividades/senda-en-el-parque-lineal-del-manzanares-2/
LOCATION:Entrada Parque Lineal Manzanares\, Punto de encuentro: Plaza Verde. Auditorio del Parque Lineal del Manzanares. Entrando al parque por la calle Camino de Perales\, 48.\, Madrid\, 28041
ATTACH;FMTTYPE=image/png:https://parquessingularesoeste.es/wp-content/uploads/2024/08/Beige-Minimal-Info-About-Us-Instagram-Post-5-e1727280011589.png
END:VEVENT
END:VCALENDAR