BEGIN:VCALENDAR
VERSION:2.0
PRODID:-//Parques Singulares Oeste - ECPv6.15.20//NONSGML v1.0//EN
CALSCALE:GREGORIAN
METHOD:PUBLISH
X-ORIGINAL-URL:https://parquessingularesoeste.es
X-WR-CALDESC:Eventos para Parques Singulares Oeste
REFRESH-INTERVAL;VALUE=DURATION:PT1H
X-Robots-Tag:noindex
X-PUBLISHED-TTL:PT1H
BEGIN:VTIMEZONE
TZID:Europe/Madrid
BEGIN:DAYLIGHT
TZOFFSETFROM:+0100
TZOFFSETTO:+0200
TZNAME:CEST
DTSTART:20230326T010000
END:DAYLIGHT
BEGIN:STANDARD
TZOFFSETFROM:+0200
TZOFFSETTO:+0100
TZNAME:CET
DTSTART:20231029T010000
END:STANDARD
BEGIN:DAYLIGHT
TZOFFSETFROM:+0100
TZOFFSETTO:+0200
TZNAME:CEST
DTSTART:20240331T010000
END:DAYLIGHT
BEGIN:STANDARD
TZOFFSETFROM:+0200
TZOFFSETTO:+0100
TZNAME:CET
DTSTART:20241027T010000
END:STANDARD
BEGIN:DAYLIGHT
TZOFFSETFROM:+0100
TZOFFSETTO:+0200
TZNAME:CEST
DTSTART:20250330T010000
END:DAYLIGHT
BEGIN:STANDARD
TZOFFSETFROM:+0200
TZOFFSETTO:+0100
TZNAME:CET
DTSTART:20251026T010000
END:STANDARD
END:VTIMEZONE
BEGIN:VEVENT
DTSTART;TZID=Europe/Madrid:20241010T123000
DTEND;TZID=Europe/Madrid:20241010T133000
DTSTAMP:20260424T174153
CREATED:20240925T134851Z
LAST-MODIFIED:20241001T081331Z
UID:6934-1728563400-1728567000@parquessingularesoeste.es
SUMMARY:Senda Parque de Madrid Río
DESCRIPTION:Hora: 12:30h a 13:30h aprox
URL:https://parquessingularesoeste.es/actividades/senda-de-interpretacion-y-parque-de-madrid-rio-7/
LOCATION:Espacio Madrid Calle 30 / Madrid Río – Centro de Interpretación de Madrid Río\, Paseo de la Chopera 6-10\, Arganzuela\, Madrid\, 28045\, Spain
ATTACH;FMTTYPE=image/png:https://parquessingularesoeste.es/wp-content/uploads/2024/09/SENDA-CENTRO-INTERPRETACIONMADRID-RIO-ADULTOS.png
END:VEVENT
END:VCALENDAR